BEGIN:VCALENDAR
VERSION:2.0
PRODID:-//MiPeers - ECPv6.15.20//NONSGML v1.0//EN
CALSCALE:GREGORIAN
METHOD:PUBLISH
X-ORIGINAL-URL:https://mipeers.org
X-WR-CALDESC:Events for MiPeers
REFRESH-INTERVAL;VALUE=DURATION:PT1H
X-Robots-Tag:noindex
X-PUBLISHED-TTL:PT1H
BEGIN:VTIMEZONE
TZID:America/Detroit
BEGIN:DAYLIGHT
TZOFFSETFROM:-0500
TZOFFSETTO:-0400
TZNAME:EDT
DTSTART:20230312T070000
END:DAYLIGHT
BEGIN:STANDARD
TZOFFSETFROM:-0400
TZOFFSETTO:-0500
TZNAME:EST
DTSTART:20231105T060000
END:STANDARD
BEGIN:DAYLIGHT
TZOFFSETFROM:-0500
TZOFFSETTO:-0400
TZNAME:EDT
DTSTART:20240310T070000
END:DAYLIGHT
BEGIN:STANDARD
TZOFFSETFROM:-0400
TZOFFSETTO:-0500
TZNAME:EST
DTSTART:20241103T060000
END:STANDARD
BEGIN:DAYLIGHT
TZOFFSETFROM:-0500
TZOFFSETTO:-0400
TZNAME:EDT
DTSTART:20250309T070000
END:DAYLIGHT
BEGIN:STANDARD
TZOFFSETFROM:-0400
TZOFFSETTO:-0500
TZNAME:EST
DTSTART:20251102T060000
END:STANDARD
END:VTIMEZONE
BEGIN:VEVENT
DTSTART;TZID=America/Detroit:20240315T093000
DTEND;TZID=America/Detroit:20240315T150000
DTSTAMP:20260419T105538
CREATED:20240302T213342Z
LAST-MODIFIED:20240308T005248Z
UID:10000009-1710495000-1710514800@mipeers.org
SUMMARY:Improving Your Self-Talk
DESCRIPTION:4.5 MDHHS Continuing Education Credits Available. $25 Registration Fee \nWhat would it be like if you could direct your internal dialogue where you want it to go? Wouldn’t it be great to silence (at least some of the time) your inner critic? Improving Your Self-Talk will help you do that very thing. This training will tell you how to “Catch it\, Check it\, Change it”. It will allow you to be in the “driver’s seat” of your own head (for the most part). \nParticipants will: \n\nFind unique ways to quiet your internal dialogue.\nHear strategies on how to be your own cheerleader.\nSee how you can improve your self-talk by changing sub modalities.\nListen to ways to keep yourself feel better by improving your self-talk.\nLook at the way you talk to yourself in a different light.\nFeel a sense of control as you take back control of your thoughts.\n\nTrainer: Chuck Hendrix \nPlease use this link to view the flyer and register.
URL:https://mipeers.org/event/improving-your-self-talk/
LOCATION:Zoom
ORGANIZER;CN="MDHHS Peer Services Area":MAILTO:MDHHS-PeerSupport@michigan.gov
END:VEVENT
END:VCALENDAR