BEGIN:VCALENDAR
VERSION:2.0
PRODID:-//MiPeers - ECPv6.15.20//NONSGML v1.0//EN
CALSCALE:GREGORIAN
METHOD:PUBLISH
X-ORIGINAL-URL:https://mipeers.org
X-WR-CALDESC:Events for MiPeers
REFRESH-INTERVAL;VALUE=DURATION:PT1H
X-Robots-Tag:noindex
X-PUBLISHED-TTL:PT1H
BEGIN:VTIMEZONE
TZID:America/Detroit
BEGIN:DAYLIGHT
TZOFFSETFROM:-0500
TZOFFSETTO:-0400
TZNAME:EDT
DTSTART:20240310T070000
END:DAYLIGHT
BEGIN:STANDARD
TZOFFSETFROM:-0400
TZOFFSETTO:-0500
TZNAME:EST
DTSTART:20241103T060000
END:STANDARD
BEGIN:DAYLIGHT
TZOFFSETFROM:-0500
TZOFFSETTO:-0400
TZNAME:EDT
DTSTART:20250309T070000
END:DAYLIGHT
BEGIN:STANDARD
TZOFFSETFROM:-0400
TZOFFSETTO:-0500
TZNAME:EST
DTSTART:20251102T060000
END:STANDARD
BEGIN:DAYLIGHT
TZOFFSETFROM:-0500
TZOFFSETTO:-0400
TZNAME:EDT
DTSTART:20260308T070000
END:DAYLIGHT
BEGIN:STANDARD
TZOFFSETFROM:-0400
TZOFFSETTO:-0500
TZNAME:EST
DTSTART:20261101T060000
END:STANDARD
BEGIN:DAYLIGHT
TZOFFSETFROM:-0500
TZOFFSETTO:-0400
TZNAME:EDT
DTSTART:20270314T070000
END:DAYLIGHT
BEGIN:STANDARD
TZOFFSETFROM:-0400
TZOFFSETTO:-0500
TZNAME:EST
DTSTART:20271107T060000
END:STANDARD
END:VTIMEZONE
BEGIN:VEVENT
DTSTART;TZID=America/Detroit:20260211T083000
DTEND;TZID=America/Detroit:20260211T163000
DTSTAMP:20260421T041357
CREATED:20251216T161900Z
LAST-MODIFIED:20251216T161900Z
UID:10000319-1770798600-1770827400@mipeers.org
SUMMARY:Flint- Eight Dimensions of Wellness
DESCRIPTION:Creating a Balanced Life: Wellness within the Eight Dimensions. This training will bring awareness to and expand on the importance of wellness in our lives and our recovery. \nLearning Objectives: \n\nDefine wellness and balance.\nDefine and explain the Eight Dimensions of Wellness.\nPromote wellness in all aspects of life.\nBe able to facilitate Eight Dimensions of Wellness group.\n\nPresented by:\nJulie Smythe\, MA\, CPSS\, and Rodasi Campbell\, CPRC\, ERYT\, Michigan Department of Health and Human Services Peer Services area \nAttendance is strictly monitored. \nEligible for 6.5 Continuing Education credits.
URL:https://mipeers.org/event/flint-eight-dimensions-of-wellness-3/
LOCATION:Genesee Health Systems (Baker College)\, 1040 W. Bristol Rd\, Flint\, MI\, 48507\, United States
CATEGORIES:Continuing Education
ATTACH;FMTTYPE=image/jpeg:https://mipeers.org/wp-content/uploads/2024/09/8-dimensions-of-wellness-415x366.jpg
ORGANIZER;CN="MDHHS Peer Services Area":MAILTO:MDHHS-PeerSupport@michigan.gov
END:VEVENT
BEGIN:VEVENT
DTSTART;TZID=America/Detroit:20260210T083000
DTEND;TZID=America/Detroit:20260210T163000
DTSTAMP:20260421T041357
CREATED:20251216T160201Z
LAST-MODIFIED:20251216T160201Z
UID:10000317-1770712200-1770741000@mipeers.org
SUMMARY:Flint- Second Edition Ethics and Boundaries for Peer Workers
DESCRIPTION:Note: This new training is only for individuals in their second renewal cycle of the Michigan Department of Health and Human Services (MDHHS) continuing education requirements. For the first recertification cycle\, Ethics and Boundaries for Peer Workers is required. \nTraining Overview: \nCertified peers across Michigan uphold the Peer Code of Ethics to protect both themselves and the people they serve. While some ethical dilemmas are clear-cut; others can be complex and unexpected. In this interactive training\, we’ll take a deep dive into the Peer Code of Ethics and unpack real-world scenarios that test professional judgement. Participants will learn practical strategies to set healthy boundaries\, navigate gray areas\, and confidently respond to ethical challenges. \nTraining Objectives:  \n\nCompare and contrast personal values with peer support values.\nExplore ethical scenarios using the Certified Peer Support Specialist (CPSS) and Certified Peer Recovery Coach (CPRC) code of ethics.\nExamine personal boundaries considering workplace policies.\nIdentify barriers to self-care and methods to improve self-care.\n\nCoffee and lunch will be served at this training. \nRegistration: Please register below (on this site) using a credit or debit card\, which is the quickest way to confirm your attendance. \nONLY if you need to pay by check\, please complete this form (click here) and email it to: registration@mipeers.org. Do not use this form if you are paying by credit/debit card. Please note that this form takes up to 5 business days for processing\, and placement is not assured until you receive a confirmation of your registration. \nCancellation Policy: Registrations may be transferred to another employee of the same agency upon written request to registration@mipeers.org. Cancellations must be received in writing at least 12 days prior to the date of the training. Failure to cancel registration within the allotted time will result in registration fees being forfeited. For questions\, e-mail registration@mipeers.org. \nAttendance Policy: You must attend the entire training. If you are more than 10 minutes late you will not be allowed to attend as part of the CE requirements. Breaks are built into the training schedule. Participants who miss more than 10 minutes of the training outside of scheduled breaks will not receive CE credit. Attendees must follow the training guidelines.
URL:https://mipeers.org/event/flint-second-edition-ethics-and-boundaries-for-peer-workers/
LOCATION:Genesee Health Systems (Baker College)\, 1040 W. Bristol Rd\, Flint\, MI\, 48507\, United States
CATEGORIES:Continuing Education
ATTACH;FMTTYPE=image/jpeg:https://mipeers.org/wp-content/uploads/2025/11/Pics-for-MiPeers-1.jpg
ORGANIZER;CN="MDHHS Peer Services Area":MAILTO:MDHHS-PeerSupport@michigan.gov
END:VEVENT
BEGIN:VEVENT
DTSTART;TZID=America/Detroit:20250604T083100
DTEND;TZID=America/Detroit:20250604T163000
DTSTAMP:20260421T041357
CREATED:20250218T205751Z
LAST-MODIFIED:20250617T183755Z
UID:10000169-1749025860-1749054600@mipeers.org
SUMMARY:Flint- Eight Dimensions of Wellness
DESCRIPTION:Creating a Balanced Life:\nWellness Within the Eight Dimensions\nThis training will bring awareness to and expand on\nthe importance of wellness in our lives and our recovery. \nLearning Objectives: \n\n Define wellness and balance.\n Define and explain the Eight Dimensions of Wellness\nPromote wellness in all aspects of life.\nBe able to facilitate an Eight Dimensions of Wellness group.\n\nPresented by:\nJulie Smythe MA CPSS + Rodasi Campbell CPRC ERYT\nMichigan Department of Health and Human Services\nPeer Services Area \nAttendance is strictly monitored. \nEligible for 6.5 MDHHS Continuing Education credits. \nRegistration will close at 11:59 p.m. on May 27\, 2025. \nRegistration: Please register below (on this site) using a credit or debit card\, which is the quickest way to confirm your attendance. \nONLY if you need to pay by check\, please complete this form (click here) and email it to: registration@mipeers.org. Do not use this form if you are paying by credit/debit card. Please note that this form takes up to 5 business days for processing\, and placement is not assured until you receive a confirmation of your registration. \nCancellation Policy: Registrations may be transferred to another employee of the same agency upon written request to registration@mipeers.org. Cancellations must be received in writing at least 12 days prior to the date of the training. Failure to cancel registration within the allotted time will result in registration fees being forfeited. For questions\, e-mail registration@mipeers.org. \nAttendance Policy: You must attend the entire training. If you are more than 10 minutes late you will not be allowed to attend as part of the CE requirements. Breaks are built into the training schedule. Participants who miss more than 10 minutes of the training outside of scheduled breaks will not receive CE credit. Attendees must follow the training guidelines.
URL:https://mipeers.org/event/flint-eight-dimensions-of-wellness-2/
LOCATION:Genesee Health Systems (Baker College)\, 1040 W. Bristol Rd\, Flint\, MI\, 48507\, United States
CATEGORIES:Continuing Education
ATTACH;FMTTYPE=image/jpeg:https://mipeers.org/wp-content/uploads/2024/09/8-dimensions-of-wellness-415x366.jpg
ORGANIZER;CN="MDHHS Peer Services Area":MAILTO:MDHHS-PeerSupport@michigan.gov
END:VEVENT
BEGIN:VEVENT
DTSTART;TZID=America/Detroit:20250603T083000
DTEND;TZID=America/Detroit:20250603T163000
DTSTAMP:20260421T041357
CREATED:20250220T191002Z
LAST-MODIFIED:20250617T183609Z
UID:10000170-1748939400-1748968200@mipeers.org
SUMMARY:Flint - Ethics and Boundaries for Peer Workers
DESCRIPTION:Training Overview: \nCertified peers across the state of Michigan are required to adhere to the Peer Code of Ethics to help protect both clients and peers. While many ethical issues seem obvious\, others can be more nuanced or unexpected. In this training\, we will explore the Peer Code of Ethics in more detail while outlining effective strategies to set professional boundaries that can help avoid or respond to ethical concerns you may face. \nTraining Objectives: \n\nUnderstand the core components of the Michigan Department of Health and Human Services (MDHHS) Certified Peer Support Specialist (CPSS) and Certified Peer Recovery Coach (CPRC) code of ethics.\nExplore possibilities of how unethical decisions happen.\nIdentify and evaluate self-care practices to maintain boundaries and ethical behavior.\nExplore how to be more effective when setting and maintaining boundaries.\nPractice and exercise decision-making skills when presented with an ethical dilemma.\n\nEligible for 6.5 MDHHS Continuing Education credits. \nRegistration for this event will end at 11:59 pm on May 26\, 2025. \nRegistration: Please register below (on this site) using a credit or debit card\, which is the quickest way to confirm your attendance. \nONLY if you need to pay by check\, please complete this form (click here) and email it to: registration@mipeers.org. Do not use this form if you are paying by credit/debit card. Please note that this form takes up to 5 business days for processing\, and placement is not assured until you receive a confirmation of your registration. \nCancellation Policy: Registrations may be transferred to another employee of the same agency upon written request to registration@mipeers.org. Cancellations must be received in writing at least 12 days prior to the date of the training. Failure to cancel registration within the allotted time will result in registration fees being forfeited. For questions\, e-mail registration@mipeers.org. \nAttendance Policy: You must attend the entire training. If you are more than 10 minutes late you will not be allowed to attend as part of the CE requirements. Breaks are built into the training schedule. Participants who miss more than 10 minutes of the training outside of scheduled breaks will not receive CE credit. Attendees must follow the training guidelines.
URL:https://mipeers.org/event/flint-ethics-and-boundaries-for-peer-workers-3/
LOCATION:Genesee Health Systems (Baker College)\, 1040 W. Bristol Rd\, Flint\, MI\, 48507\, United States
CATEGORIES:Continuing Education
ATTACH;FMTTYPE=image/jpeg:https://mipeers.org/wp-content/uploads/2024/04/ethics-1254x692.jpg
ORGANIZER;CN="MDHHS Peer Services Area":MAILTO:MDHHS-PeerSupport@michigan.gov
END:VEVENT
BEGIN:VEVENT
DTSTART;TZID=America/Detroit:20250602T083000
DTEND;TZID=America/Detroit:20250602T163000
DTSTAMP:20260421T041357
CREATED:20250403T152741Z
LAST-MODIFIED:20250407T130757Z
UID:10000203-1748853000-1748881800@mipeers.org
SUMMARY:Flint- Moral Injury
DESCRIPTION:Moral injury is deeply psychological and emotional\, often leading to guilt\, shame\, and long-term distress. It can be especially painful when no legal consequences exist\, yet a person struggles with their own internal moral code. \nLearning Objectives: \n\nDefine Moral Injury.\nIdentify causes of Moral Injury.\nRecognize the psychological and emotional impact.\nDiscus strategies for recognizing and addressing Moral Injury.\nExamine approaches to prevent and heal from Moral Injury.\n\nAbout the Trainer: \nDr. Kevin Scott is an honorably discharged decorated Marine Veteran of Operation Desert Storm. Academically\, he has a Bachelor of Science (Magna Cum Laude) and a Master of Science both in the discipline of Criminal Justice from North Carolina Central University\, in Durham\, NC. In addition\, he earned a doctorate in Community Counseling and Care specializing in Traumatology from Liberty University in Lynchburg\, Virginia. He also holds national memberships and state certifications in a myriad of mental health spaces including Harvard’s T. H. Chan School of Public Health Executive Leadership Development\, National Alliance on Mental Health (NAMI)\, National Association of Drug Court Professionals (NACDP)\, Commission on Correctional Healthcare Professional (CCHP)\, and Commission on Correctional Healthcare Professional-Mental Health (CCHP-MH). \nEligible for 6.5 MDHHS Continuing Education credits. \nRegistration for this event will end at 11:59 pm on May 25\, 2025. \nRegistration: Please register below (on this site) using a credit or debit card\, which is the quickest way to confirm your attendance. \nONLY if you need to pay by check\, please complete this form (click here) and email it to: registration@mipeers.org. Do not use this form if you are paying by credit/debit card. Please note that this form takes up to 5 business days for processing\, and placement is not assured until you receive a confirmation of your registration. \nCancellation Policy: Registrations may be transferred to another employee of the same agency upon written request to registration@mipeers.org. Cancellations must be received in writing at least 12 days prior to the date of the training. Failure to cancel registration within the allotted time will result in registration fees being forfeited. For questions\, e-mail registration@mipeers.org. \nAttendance Policy: You must attend the entire training. If you are more than 10 minutes late you will not be allowed to attend as part of the CE requirements. Breaks are built into the training schedule. Participants who miss more than 10 minutes of the training outside of scheduled breaks will not receive CE credit. Attendees must follow the training guidelines.
URL:https://mipeers.org/event/flint-moral-injury/
LOCATION:Genesee Health Systems (Baker College)\, 1040 W. Bristol Rd\, Flint\, MI\, 48507\, United States
CATEGORIES:Continuing Education
ATTACH;FMTTYPE=application/pdf:https://mipeers.org/wp-content/uploads/2025/03/Untitled-design-3.pdf
ORGANIZER;CN="MDHHS Peer Services Area":MAILTO:MDHHS-PeerSupport@michigan.gov
END:VEVENT
BEGIN:VEVENT
DTSTART;TZID=America/Detroit:20250414T083000
DTEND;TZID=America/Detroit:20250416T163000
DTSTAMP:20260421T041357
CREATED:20250203T173800Z
LAST-MODIFIED:20250326T192746Z
UID:10000163-1744619400-1744821000@mipeers.org
SUMMARY:Flint- Crisis Through a Peer Support Lens
DESCRIPTION:Crisis Through a Peer Support Lens:\nConnection\, Compassion\, and Care \nAs more peer workers serve in crisis settings roles\, it is vital to understand crisis through a peer lens\, stay rooted in core peer support values and remain anchored in peer support competencies. This training provides information\, skills\, and practical applications that peer workers can use in various crisis settings. \nBy the end of the training\, participants will be able to:\n• Define crisis through a peer support model.\n• Apply core peer support values to crisis situations.\n• Practice trauma-informed responses to reduce traumatization of self and others.\n• Use cultural knowledge to create connections.\n• Develop communication skills to use during crisis situations.\n• Support self and others after a crisis has occurred. \nTRAINER\nTrenda Hedges\, CRSS\, CPRS\nTrenda Hedges believes in the power of lived experience. As the CEO of Peer Power\, she envisions individual lives\, communities\, and entire systems positively impacted because of the power of lived experience through peer support. Trenda shares both her lived and professional expertise to positively impact the systems in which peer supporters live\, work\, and learn. In addition to her lived experience\, Trenda is a Certified Recovery Support Specialist (CRSS)\, Certified Peer Recovery Specialist (CPRS)\, and Advance Level WRAP® Facilitator. \nApproved for 19.5 Continuing Education credits. \nRegistration for this event will end at 11:59 p.m. April 6\, 2025. \nRegistration: Please register below (on this site) using a credit or debit card\, which is the quickest way to confirm your attendance. \nONLY if you need to pay by check\, please complete this form (click here) and email it to: registration@mipeers.org. Do not use this form if you are paying by credit/debit card. \nCancellation Policy: Registrations may be transferred to another employee of the same agency upon written request to registration@mipeers.org. Cancellations must be received in writing at least 12 days prior to the date of the training. Failure to cancel registration within the allotted time will result in registration fees being forfeited. For questions\, e-mail registration@mipeers.org. \nAttendance Policy: You must attend the entire training. If you are more than 10 minutes late you will not be allowed to attend as part of the CE requirements. Breaks are built into the training schedule. Participants who miss more than 10 minutes of the training outside of scheduled breaks will not receive CE credit. Attendees must follow the training guidelines.
URL:https://mipeers.org/event/flint-crisis-through-a-peer-support-lens/
LOCATION:Genesee Health Systems (Baker College)\, 1040 W. Bristol Rd\, Flint\, MI\, 48507\, United States
CATEGORIES:Continuing Education
ATTACH;FMTTYPE=application/pdf:https://mipeers.org/wp-content/uploads/2024/12/Untitled-design-1.pdf
ORGANIZER;CN="MDHHS Peer Services Area":MAILTO:MDHHS-PeerSupport@michigan.gov
END:VEVENT
BEGIN:VEVENT
DTSTART;TZID=America/Detroit:20250408T083000
DTEND;TZID=America/Detroit:20250408T163000
DTSTAMP:20260421T041357
CREATED:20250129T204903Z
LAST-MODIFIED:20250307T170640Z
UID:10000159-1744101000-1744129800@mipeers.org
SUMMARY:Flint- Eight Dimensions of Wellness
DESCRIPTION:Creating a Balanced Life:\nWellness Within the Eight Dimensions\nThis training will bring awareness to and expand on\nthe importance of wellness in our lives and our recovery. \nLearning Objectives: \n\n Define wellness and balance.\n Define and explain the Eight Dimensions of Wellness\nPromote wellness in all aspects of life.\nBe able to facilitate an Eight Dimensions of Wellness group.\n\nPresented by:\nJulie Smythe MA CPSS\nMichigan Department of Health and Human Services\nPeer Services Area \nAttendance is strictly monitored. \nEligible for 6.5 MDHHS Continuing Education credits. \nRegistration: Please register below (on this site) using a credit or debit card\, which is the quickest way to confirm your attendance. \nONLY if you need to pay by check\, please complete this form (click here) and email it to: registration@mipeers.org. Do not use this form if you are paying by credit/debit card. \nCancellation Policy: Registrations may be transferred to another employee of the same agency upon written request to registration@mipeers.org. Cancellations must be received in writing at least 12 days prior to the date of the training. Failure to cancel registration within the allotted time will result in registration fees being forfeited. For questions\, e-mail registration@mipeers.org. \nAttendance Policy: You must attend the entire training. If you are more than 10 minutes late you will not be allowed to attend as part of the CE requirements. Breaks are built into the training schedule. Participants who miss more than 10 minutes of the training outside of scheduled breaks will not receive CE credit. Attendees must follow the training guidelines.
URL:https://mipeers.org/event/flint-eight-dimensions-of-wellness/
LOCATION:Genesee Health Systems (Baker College)\, 1040 W. Bristol Rd\, Flint\, MI\, 48507\, United States
CATEGORIES:Continuing Education
ATTACH;FMTTYPE=image/jpeg:https://mipeers.org/wp-content/uploads/2024/09/8-dimensions-of-wellness-415x366.jpg
ORGANIZER;CN="MDHHS Peer Services Area":MAILTO:MDHHS-PeerSupport@michigan.gov
END:VEVENT
BEGIN:VEVENT
DTSTART;TZID=America/Detroit:20250407T083000
DTEND;TZID=America/Detroit:20250407T163000
DTSTAMP:20260421T041357
CREATED:20250129T205401Z
LAST-MODIFIED:20250304T155902Z
UID:10000158-1744014600-1744043400@mipeers.org
SUMMARY:Flint - Ethics and Boundaries for Peer Workers
DESCRIPTION:Training Overview: \nCertified peers across the state of Michigan are required to adhere to the Peer Code of Ethics to help protect both clients and peers. While many ethical issues seem obvious\, others can be more nuanced or unexpected. In this training\, we will explore the Peer Code of Ethics in more detail while outlining effective strategies to set professional boundaries that can help avoid or respond to ethical concerns you may face. \nTraining Objectives: \n\nUnderstand the core components of the Michigan Department of Health and Human Services (MDHHS) Certified Peer Support Specialist (CPSS) and Certified Peer Recovery Coach (CPRC) code of ethics.\nExplore possibilities of how unethical decisions happen.\nIdentify and evaluate self-care practices to maintain boundaries and ethical behavior.\nExplore how to be more effective when setting and maintaining boundaries.\nPractice and exercise decision-making skills when presented with an ethical dilemma.\n\nEligible for 6.5 MDHHS Continuing Education credits. \nRegistration for this event will end at 11:59 pm on April 1\, 2025. \nRegistration: Please register below (on this site) using a credit or debit card\, which is the quickest way to confirm your attendance. \nONLY if you need to pay by check\, please complete this form (click here) and email it to: registration@mipeers.org. Do not use this form if you are paying by credit/debit card. \nCancellation Policy: Registrations may be transferred to another employee of the same agency upon written request to registration@mipeers.org. Cancellations must be received in writing at least 12 days prior to the date of the training. Failure to cancel registration within the allotted time will result in registration fees being forfeited. For questions\, e-mail registration@mipeers.org. \nAttendance Policy: You must attend the entire training. If you are more than 10 minutes late you will not be allowed to attend as part of the CE requirements. Breaks are built into the training schedule. Participants who miss more than 10 minutes of the training outside of scheduled breaks will not receive CE credit. Attendees must follow the training guidelines.
URL:https://mipeers.org/event/flint-ethics-and-boundaries-for-peer-workers-2/
LOCATION:Genesee Health Systems (Baker College)\, 1040 W. Bristol Rd\, Flint\, MI\, 48507\, United States
CATEGORIES:Continuing Education
ATTACH;FMTTYPE=image/jpeg:https://mipeers.org/wp-content/uploads/2024/04/ethics-1254x692.jpg
ORGANIZER;CN="MDHHS Peer Services Area":MAILTO:MDHHS-PeerSupport@michigan.gov
END:VEVENT
BEGIN:VEVENT
DTSTART;TZID=America/Detroit:20250212T083000
DTEND;TZID=America/Detroit:20250212T163000
DTSTAMP:20260421T041357
CREATED:20241121T194956Z
LAST-MODIFIED:20241212T164052Z
UID:10000119-1739349000-1739377800@mipeers.org
SUMMARY:Flint - Ethics and Boundaries for Peer Workers
DESCRIPTION:Training Overview: \nCertified peers across the state of Michigan are required to adhere to the Peer Code of Ethics to help protect both clients and peers. While many ethical issues seem obvious\, others can be more nuanced or unexpected. In this training\, we will explore the Peer Code of Ethics in more detail while outlining effective strategies to set professional boundaries that can help avoid or respond to ethical concerns you may face. \nTraining Objectives: \n\nUnderstand the core components of the Michigan Department of Health and Human Services (MDHHS) Certified Peer Support Specialist (CPSS) and Certified Peer Recovery Coach (CPRC) code of ethics.\nExplore possibilities of how unethical decisions happen.\nIdentify and evaluate self-care practices to maintain boundaries and ethical behavior.\nExplore how to be more effective when setting and maintaining boundaries.\nPractice and exercise decision-making skills when presented with an ethical dilemma.\n\nEligible for 6.5 MDHHS Continuing Education credits. \nRegistration for this event will end at 11:59 pm on February 4\, 2025. \nRegistration: Please register below (on this site) using a credit or debit card\, which is the quickest way to confirm your attendance. \nONLY if you need to pay by check\, please complete this form (click here) and email it to: registration@mipeers.org. Do not use this form if you are paying by credit/debit card. \nCancellation Policy: Registrations may be transferred to another employee of the same agency upon written request to registration@mipeers.org. Cancellations must be received in writing at least 12 days prior to the date of the training. Failure to cancel registration within the allotted time will result in registration fees being forfeited. For questions\, e-mail registration@mipeers.org. \nAttendance Policy: You must attend the entire training. If you are more than 10 minutes late you will not be allowed to attend as part of the CE requirements. Breaks are built into the training schedule. Participants who miss more than 10 minutes of the training outside of scheduled breaks will not receive CE credit. Attendees must follow the training guidelines.
URL:https://mipeers.org/event/flint-ethics-and-boundaries-for-peer-workers/
LOCATION:Genesee Health Systems (Baker College)\, 1040 W. Bristol Rd\, Flint\, MI\, 48507\, United States
CATEGORIES:Continuing Education
ATTACH;FMTTYPE=image/jpeg:https://mipeers.org/wp-content/uploads/2024/04/ethics-1254x692.jpg
ORGANIZER;CN="MDHHS Peer Services Area":MAILTO:MDHHS-PeerSupport@michigan.gov
END:VEVENT
BEGIN:VEVENT
DTSTART;TZID=America/Detroit:20250210T083000
DTEND;TZID=America/Detroit:20250211T163000
DTSTAMP:20260421T041357
CREATED:20241212T144704Z
LAST-MODIFIED:20250128T185256Z
UID:10000129-1739176200-1739291400@mipeers.org
SUMMARY:Flint - Emotional CPR Two Day Training
DESCRIPTION:Emotional CPR (eCPR) is a public health educational program designed to teach people to assist others through an emotional crisis in three simple steps: Connecting\, Empowering and Revitalizing. \nEmotional CPR (eCPR) is based on the principles shared by several support approaches: \n\nTrauma-informed care.\nCounseling after disasters.\nPeer support.\nEmotional intelligence.\nSuicide prevention.\nCultural attunement.\n\nParticipants will learn to: \n\nAssist individuals in transforming anger and rage into passion and strength.\nInspire motivation and change.\nHelp others tap into their courage and power.\nReframe crisis as opportunity.\nEncourage the people they serve to take steps in the direction of their dreams.\nLearn the importance of taking care of themselves so that they can support others.\nFacilitate the other persons access to inner wisdom.\n\nWho Can Attend: \nMDDHS Certified Peer Support Specialists\nMDDHS Certified Peer Recovery Coaches \nTrainers:\nCarolyn Pifer\, CPSS\,\nBraunwynn Franklin\, CPSS\nBecky Cronin\, CPSS\n*Trainers may be subject to change* \nEligible for 13 MDHHS Continuing Education credits. \nRegistration for this event will end at 11:59 p.m. on February 2\, 2025. \nRegistration: Please register below (on this site) using a credit or debit card\, which is the quickest way to confirm your attendance. \nONLY if you need to pay by check\, please complete this form (click here) and email it to: registration@mipeers.org. Do not use this form if you are paying by credit/debit card. \nCancellation Policy: Registrations may be transferred to another employee of the same agency upon written request to registration@mipeers.org. Cancellations must be received in writing at least 12 days prior to the date of the training. Failure to cancel registration within the allotted time will result in registration fees being forfeited. For questions\, e-mail registration@mipeers.org. \nAttendance Policy: You must attend the entire training. If you are more than 10 minutes late you will not be allowed to attend as part of the CE requirements. Breaks are built into the training schedule. Participants who miss more than 10 minutes of the training outside of scheduled breaks will not receive CE credit. Attendees must follow the training guidelines. \nIf you need lodging\, please use the Google Map link at the bottom of the page to explore hotel options in the area.
URL:https://mipeers.org/event/flint-emotional-cpr-two-day-training/
LOCATION:Genesee Health Systems (Baker College)\, 1040 W. Bristol Rd\, Flint\, MI\, 48507\, United States
CATEGORIES:Continuing Education
ATTACH;FMTTYPE=image/jpeg:https://mipeers.org/wp-content/uploads/2024/05/GettyImages-1316037109-befbf7445a0d4fb28c0b81685520ae1e-1500x844-e1720721793994.jpg
ORGANIZER;CN="MDHHS Peer Services Area":MAILTO:MDHHS-PeerSupport@michigan.gov
END:VEVENT
END:VCALENDAR