BEGIN:VCALENDAR
VERSION:2.0
PRODID:-//MiPeers - ECPv6.15.20//NONSGML v1.0//EN
CALSCALE:GREGORIAN
METHOD:PUBLISH
X-WR-CALNAME:MiPeers
X-ORIGINAL-URL:https://mipeers.org
X-WR-CALDESC:Events for MiPeers
REFRESH-INTERVAL;VALUE=DURATION:PT1H
X-Robots-Tag:noindex
X-PUBLISHED-TTL:PT1H
BEGIN:VTIMEZONE
TZID:America/Detroit
BEGIN:DAYLIGHT
TZOFFSETFROM:-0500
TZOFFSETTO:-0400
TZNAME:EDT
DTSTART:20240310T070000
END:DAYLIGHT
BEGIN:STANDARD
TZOFFSETFROM:-0400
TZOFFSETTO:-0500
TZNAME:EST
DTSTART:20241103T060000
END:STANDARD
BEGIN:DAYLIGHT
TZOFFSETFROM:-0500
TZOFFSETTO:-0400
TZNAME:EDT
DTSTART:20250309T070000
END:DAYLIGHT
BEGIN:STANDARD
TZOFFSETFROM:-0400
TZOFFSETTO:-0500
TZNAME:EST
DTSTART:20251102T060000
END:STANDARD
BEGIN:DAYLIGHT
TZOFFSETFROM:-0500
TZOFFSETTO:-0400
TZNAME:EDT
DTSTART:20260308T070000
END:DAYLIGHT
BEGIN:STANDARD
TZOFFSETFROM:-0400
TZOFFSETTO:-0500
TZNAME:EST
DTSTART:20261101T060000
END:STANDARD
END:VTIMEZONE
BEGIN:VEVENT
DTSTART;TZID=America/Detroit:20250502T083000
DTEND;TZID=America/Detroit:20250502T124500
DTSTAMP:20260421T205156
CREATED:20250211T031659Z
LAST-MODIFIED:20250520T173326Z
UID:10000166-1746174600-1746189900@mipeers.org
SUMMARY:So Many Roads: A Multiple Pathways Training
DESCRIPTION:Explore new pathways in your recovery journey with our interactive online training. Learn how different recovery routes can support your personal growth and those you serve. Through collaboration and self-reflection\, you’ll uncover and share pathways you may not have realized were part of your recovery. Join us for a session of discovery and connection. \nTraining Objectives: \n\nBetter understand many different groups that support multiple pathways.\nLearn about the history of mutual aid groups.\nSelf-discover all the pathways you have used to support your recovery.\nBe able to help the people you serve build a roadmap of their own unique recovery pathway.\n\nTrainers: \nAndrew Brown (BA\, CPRC\, CPRM) is a person in long-term recovery. He is also a trainer for the Michigan Department of Health and Human Services (MDHHS) Peer Recovery Coach Curriculum. He is very passionate about a multiple pathways approach to recovery and dedicated to the concept of harm reduction for persons struggling with substance use disorders. \nPriscilla Shafor (BS\, CADC\, CPRM\, CPRC) is a person in long-term recovery. She is a trainer for the MDHHS Peer Recovery Coach Curriculum\, a Core Recovery Coach Academy and Ethics Trainer for Connecticut Community of Addiction Recovery (CCAR). Priscilla has over 20 years’ experience advocating for persons with substance use disorders and legal histories. \nEligible for 4 MDHHS Continuing Education credits. This is a virtual training. Up to 13 virtual Continuing Education credits are allowed to be used towards the 32 credits required for recertification. \nPlease note: Registration will close at 11:59 p.m. on April 27\, 2025. \nRegistration: Please register below (on this site) using a credit or debit card\, which is the quickest way to confirm your attendance. \nOnly if you need to pay by check\, please complete this form (click here) and email it to: registration@mipeers.org. Do not use this form if you are paying by credit/debit card. Please note that this form takes up to 5 business days for processing\, and registration is not assured until we receive the check\, and you receive a confirmation of your registration. \nCancellation Policy: Registrations may be transferred to another employee of the same agency upon written request to registration@mipeers.org. Cancellations must be received in writing at least 12 days prior to the date of the training. Failure to cancel registration within the allotted time will result in registration fees being forfeited. For questions\, e-mail registration@mipeers.org. \nAttendance Policy: You must attend the entire training. If you are more than 10 minutes late you will not be allowed to attend as part of the CE requirements. Please note there is absolutely NO driving during the training. If you are driving while attending the training\, you will be removed from the training for your own safety. Training guidelines must be read\, signed\, and returned back to the office before a zoom link is sent to the participant. Attendees must follow the training guidelines.
URL:https://mipeers.org/event/so-many-roads-a-multiple-pathways-training-6/
LOCATION:Zoom
CATEGORIES:Continuing Education
ATTACH;FMTTYPE=image/png:https://mipeers.org/wp-content/uploads/2024/07/Untitled-design-13.png
ORGANIZER;CN="MDHHS Peer Services Area":MAILTO:MDHHS-PeerSupport@michigan.gov
END:VEVENT
BEGIN:VEVENT
DTSTART;TZID=America/Detroit:20250509T093000
DTEND;TZID=America/Detroit:20250509T150000
DTSTAMP:20260421T205156
CREATED:20250404T191841Z
LAST-MODIFIED:20250411T172303Z
UID:10000207-1746783000-1746802800@mipeers.org
SUMMARY:Improving Your Self-Talk
DESCRIPTION:What would it be like if you could direct your internal dialogue where you want it to go? Wouldn’t it be great to silence your inner critic? Improving Your Self-Talk will help you do that very thing. This training will tell you how to “catch it\, check it\, change it.” It will allow you to be in the “driver’s seat” of your own head (for the most part). \nParticipants will: \n– Find unique ways to quiet your internal dialogue.\n– Hear strategies on how to be your own cheerleader.\n– See how you can improve your self-talk by changing sub modalities.\n– Listen to ways to keep yourself feeling better by improving your self-talk.\n– Look at the way you talk to yourself in a different light.\n– Feel a sense of control as you take back control of your thoughts. \nMeet the Trainer: \nChuck Hendrix is a Certified Peer Support Specialist\, Certified Life Coach\, and NLP Practitioner\, and a Board-Certified Hypnotherapist. He has been studying personal growth for more than 25 years. He is always developing special trainings to further the impact that CPSS and Recovery Coaches can make with those they work with. Chuck is known for his unique communication style that is both engaging and funny. You won’t want to miss this training. \nEligible for 4.5 MDHHS Continuing Education credits. \nRegistration for this event will close on May 4\, 2025 at 11:59 p.m. This is a virtual training. Up to 13 virtual Continuing Education credits are allowed to be used towards the 32 credits required for recertification. \nRegistration: Please register below (on this site) using a credit or debit card\, which is the quickest way to confirm your attendance. \nONLY if you need to pay by check\, please complete this form (click here) and email it to: registration@mipeers.org. Do not use this form if you are paying by credit/debit card. Please note that this form takes up to 5 business days for processing\, and registration is not assured until we receive the check\, and you receive a confirmation of your registration. \nCancellation Policy: Registrations may be transferred to another employee of the same agency upon written request to registration@mipeers.org. Cancellations must be received in writing at least 12 days prior to the date of the training. Failure to cancel registration within the allotted time will result in registration fees being forfeited. For questions\, e-mail registration@mipeers.org. \nAttendance Policy: You must attend the entire training. If you are more than 10 minutes late you will not be allowed to attend as part of the CE requirements. Please note there is absolutely NO driving during the training. If you are driving while attending the training\, you will be removed from the training for your own safety. Training guidelines must be read\, signed\, and returned back to the office before a zoom link is sent to the participant. Attendees must follow the training guidelines.
URL:https://mipeers.org/event/improving-your-self-talk-3/
LOCATION:Zoom
CATEGORIES:Continuing Education
ATTACH;FMTTYPE=image/jpeg:https://mipeers.org/wp-content/uploads/2024/06/positive-self-talk-examples-960x540-1-960x540.jpg
ORGANIZER;CN="MDHHS Peer Services Area":MAILTO:MDHHS-PeerSupport@michigan.gov
END:VEVENT
BEGIN:VEVENT
DTSTART;TZID=America/Detroit:20250512T120000
DTEND;TZID=America/Detroit:20250512T130000
DTSTAMP:20260421T205156
CREATED:20250424T183325Z
LAST-MODIFIED:20250424T183325Z
UID:10000220-1747051200-1747054800@mipeers.org
SUMMARY:Continuing Education Q&A Session
DESCRIPTION:Have questions about the continuing education requirements for your CPSS or CPRC certification? Join representatives from MDHHS to get all of your questions answered. Registration is not necessary. \nThis session is hosted virtually through zoom. You can access the zoom meeting here. \nMeeting ID: 832 4843 9307 \nPasscode: qby1Si
URL:https://mipeers.org/event/continuing-education-qa-session-26/
CATEGORIES:Continuing Education
ORGANIZER;CN="MDHHS Peer Services Area":MAILTO:MDHHS-PeerSupport@michigan.gov
END:VEVENT
BEGIN:VEVENT
DTSTART;TZID=America/Detroit:20250528T120000
DTEND;TZID=America/Detroit:20250528T130000
DTSTAMP:20260421T205156
CREATED:20250424T184248Z
LAST-MODIFIED:20250424T184248Z
UID:10000221-1748433600-1748437200@mipeers.org
SUMMARY:Continuing Education Q&A Session
DESCRIPTION:Have questions about the continuing education requirements for your CPSS or CPRC certification? Join representatives from MDHHS to get all of your questions answered. Registration is not necessary. \nThis session is hosted virtually through zoom. You can access the zoom meeting here. \nMeeting ID: 839 1523 8275 \nPasscode: 6RTkXW
URL:https://mipeers.org/event/continuing-education-qa-session-27/
CATEGORIES:Continuing Education
ORGANIZER;CN="MDHHS Peer Services Area":MAILTO:MDHHS-PeerSupport@michigan.gov
END:VEVENT
BEGIN:VEVENT
DTSTART;TZID=America/Detroit:20250530T093000
DTEND;TZID=America/Detroit:20250530T150000
DTSTAMP:20260421T205156
CREATED:20250408T201438Z
LAST-MODIFIED:20250617T183527Z
UID:10000214-1748597400-1748617200@mipeers.org
SUMMARY:Building Confidence
DESCRIPTION:You and I both know exactly what it feels like to second guess ourselves. Each of you have looked in the mirror and thought less of yourself than you would ever like to admit. That cycle or self-loathing can STOP now if you want it to. Pause for a second\, think about how this year can be different for you if you were more CONFIDENT! In this short\, POWER-PACKED training\, you will be able to make that a reality. \nWhen you register and attend this training\, you will: \n\nLearn how to let go of the past that stops you from being confident.\nSee your future with a new perspective that will raise your confidence.\nHear fifteen tips\, tools\, and tricks that will skyrocket your confidence.\nFeel better about yourself than you ever imagined possible.\n\nTrainer: Chuck Hendrix \nEven though Chuck has spoken before thousands of people\, most people do not know he has struggled with confidence on and off most of his life. From the effects of early childhood trauma and life throwing him some significant curveballs\, Chuck has had to immerse himself in learning about confidence to get to where he is today. Now you can learn what he has learned and glean from both his successes and failures. \nEligible for 4.5 MDHHS Continuing Education credits. This is a virtual training. Up to 13 virtual Continuing Education credits are allowed to be used towards the 32 credits required for recertification. \nRegistration will close at 11:59 p.m. on May 23\, 2025. \nRegistration: Please register below (on this site) using a credit or debit card\, which is the quickest way to confirm your attendance. \nOnly if you need to pay by check\, please complete this form (click here) and email it to: registration@mipeers.org. Do not use this form if you are paying by credit/debit card. Please note that this form takes up to 5 business days for processing\, and registration is not assured until we receive the check\, and you receive a confirmation of your registration. \nCancellation Policy: Registrations may be transferred to another employee of the same agency upon written request to registration@mipeers.org. Cancellations must be received in writing at least 12 days prior to the date of the training. Failure to cancel registration within the allotted time will result in registration fees being forfeited. For questions\, e-mail registration@mipeers.org. \nAttendance Policy: You must attend the entire training. If you are more than 10 minutes late you will not be allowed to attend as part of the CE requirements. Please note there is absolutely NO driving during the training. If you are driving while attending the training\, you will be removed from the training for your own safety. Training guidelines must be read\, signed\, and returned back to the office before a zoom link is sent to the participant. Attendees must follow the training guidelines.
URL:https://mipeers.org/event/building-confidence/
LOCATION:Zoom
CATEGORIES:Continuing Education
ATTACH;FMTTYPE=image/jpeg:https://mipeers.org/wp-content/uploads/2025/04/Supervision-Insights-7.jpg
ORGANIZER;CN="MDHHS Peer Services Area":MAILTO:MDHHS-PeerSupport@michigan.gov
END:VEVENT
END:VCALENDAR