BEGIN:VCALENDAR
VERSION:2.0
PRODID:-//MiPeers - ECPv6.15.20//NONSGML v1.0//EN
CALSCALE:GREGORIAN
METHOD:PUBLISH
X-WR-CALNAME:MiPeers
X-ORIGINAL-URL:https://mipeers.org
X-WR-CALDESC:Events for MiPeers
REFRESH-INTERVAL;VALUE=DURATION:PT1H
X-Robots-Tag:noindex
X-PUBLISHED-TTL:PT1H
BEGIN:VTIMEZONE
TZID:America/Detroit
BEGIN:DAYLIGHT
TZOFFSETFROM:-0500
TZOFFSETTO:-0400
TZNAME:EDT
DTSTART:20240310T070000
END:DAYLIGHT
BEGIN:STANDARD
TZOFFSETFROM:-0400
TZOFFSETTO:-0500
TZNAME:EST
DTSTART:20241103T060000
END:STANDARD
BEGIN:DAYLIGHT
TZOFFSETFROM:-0500
TZOFFSETTO:-0400
TZNAME:EDT
DTSTART:20250309T070000
END:DAYLIGHT
BEGIN:STANDARD
TZOFFSETFROM:-0400
TZOFFSETTO:-0500
TZNAME:EST
DTSTART:20251102T060000
END:STANDARD
BEGIN:DAYLIGHT
TZOFFSETFROM:-0500
TZOFFSETTO:-0400
TZNAME:EDT
DTSTART:20260308T070000
END:DAYLIGHT
BEGIN:STANDARD
TZOFFSETFROM:-0400
TZOFFSETTO:-0500
TZNAME:EST
DTSTART:20261101T060000
END:STANDARD
END:VTIMEZONE
BEGIN:VEVENT
DTSTART;TZID=America/Detroit:20251006T083000
DTEND;TZID=America/Detroit:20251010T163000
DTSTAMP:20260419T103327
CREATED:20241218T182303Z
LAST-MODIFIED:20250904T165428Z
UID:10000144-1759739400-1760113800@mipeers.org
SUMMARY:Recovery Coach Certification Training - Kalamazoo\, MI
DESCRIPTION:The peer support field is always growing! If you are interested in becoming an MDHHS recovery coach (CPRC)\, use this information about the certification process. \nSteps to becoming a certified peer recovery coach or support specialist:​ \n\nReview the CPRC application linked here. On the very first page of the applications you will find a list of eligibility requirements to be eligible for certification.\nIf you meet all of those requirements\, complete the application and submit it here: Certification Application Submission – MiPeers\nOnce submitted\, your application will be reviewed and someone from the MDHHS team will reach out with information on the next steps in the process.\n\nQuestions? Email MDHHS-PeerSupport@michigan.gov \nLink to CPRC Application \n 
URL:https://mipeers.org/event/recovery-coach-certification-training-oakland-county-mi-2/
LOCATION:To Be Determined
CATEGORIES:CPRC/CPSS Certification
ATTACH;FMTTYPE=image/png:https://mipeers.org/wp-content/uploads/2024/07/CPRC.png
ORGANIZER;CN="MDHHS Peer Services Area":MAILTO:MDHHS-PeerSupport@michigan.gov
END:VEVENT
BEGIN:VEVENT
DTSTART;TZID=America/Detroit:20251006T083000
DTEND;TZID=America/Detroit:20251010T163000
DTSTAMP:20260419T103327
CREATED:20241218T182401Z
LAST-MODIFIED:20250904T165607Z
UID:10000145-1759739400-1760113800@mipeers.org
SUMMARY:Support Specialist Certification Training - Kalamazoo\, MI
DESCRIPTION:The peer support field is always growing! If you are interested in becoming an MDHHS Certified Peer Support Specialist (CPSS)\, use this information about the certification process. \nSteps to becoming a certified peer recovery coach or support specialist:​ \n\nReview the CPSS application linked here. On the very first page of the applications you will find a list of eligibility requirements to be eligible for certification.\nIf you meet all of those requirements\, complete the application and submit it here: Certification Application Submission – MiPeers\nOnce submitted\, your application will be reviewed and someone from the MDHHS team will reach out with information on the next steps in the process.\n\nQuestions? Email MDHHS-PeerSupport@michigan.gov \nLink to CPSS Application \n 
URL:https://mipeers.org/event/support-specialist-certification-training-owosso-mi-4/
LOCATION:To Be Determined
CATEGORIES:CPRC/CPSS Certification
ATTACH;FMTTYPE=image/png:https://mipeers.org/wp-content/uploads/2024/07/CPSS.png
ORGANIZER;CN="MDHHS Peer Services Area":MAILTO:MDHHS-PeerSupport@michigan.gov
END:VEVENT
BEGIN:VEVENT
DTSTART;TZID=America/Detroit:20251016T120000
DTEND;TZID=America/Detroit:20251016T130000
DTSTAMP:20260419T103327
CREATED:20251009T152302Z
LAST-MODIFIED:20251009T152415Z
UID:10000284-1760616000-1760619600@mipeers.org
SUMMARY:Continuing Education Q&A Session
DESCRIPTION:Have questions about the continuing education requirements for your CPSS or CPRC certification? Join representatives from MDHHS to get all of your questions answered. Registration is not necessary. \nThis session is hosted virtually through zoom. You can access the zoom meeting here. \nMeeting ID: 891 6903 2167 \nPasscode: 1LGYth \n— \nOne tap mobile \n+19292056099\,\,89169032167# US (New York) \n+13017158592\,\,89169032167# US (Washington DC) \nJoin instructions \nhttps://us06web.zoom.us/meetings/89169032167/invitations?signature=SdK-vDbDB9GRLRvopdu-ybaX4EQjQ04sqodVxVcRX_I
URL:https://mipeers.org/event/continuing-education-qa-session-34/
LOCATION:Zoom
CATEGORIES:Continuing Education
ORGANIZER;CN="MDHHS Peer Services Area":MAILTO:MDHHS-PeerSupport@michigan.gov
END:VEVENT
BEGIN:VEVENT
DTSTART;TZID=America/Detroit:20251020T083000
DTEND;TZID=America/Detroit:20251020T163000
DTSTAMP:20260419T103327
CREATED:20250910T145355Z
LAST-MODIFIED:20250910T152626Z
UID:10000271-1760949000-1760977800@mipeers.org
SUMMARY:Detroit- Ethics and Boundaries for Peer Workers
DESCRIPTION:NOTE: this training is for individuals who are in first renewal cycle of MDHHS continuing education requirements.  For the second renewal period\, Ethics second edition will be required.  \nTraining Overview: \nCertified peers across the state of Michigan are required to adhere to the Peer Code of Ethics to help protect both clients and peers. While many ethical issues seem obvious\, others can be more nuanced or unexpected. In this training\, we will explore the Peer Code of Ethics in more detail while outlining effective strategies to set professional boundaries that can help avoid or respond to ethical concerns you may face. \nTraining Objectives: \n\nUnderstand the core components of the Michigan Department of Health and Human Services (MDHHS) Certified Peer Support Specialist (CPSS) and Certified Peer Recovery Coach (CPRC) code of ethics.\nExplore possibilities of how unethical decisions happen.\nIdentify and evaluate self-care practices to maintain boundaries and ethical behavior.\nExplore how to be more effective when setting and maintaining boundaries.\nPractice and exercise decision-making skills when presented with an ethical dilemma.\n\nEligible for 6.5 MDHHS Continuing Education credits. \nCoffee and lunch will be served at this training. \nRegistration for this event will end at 11:59 pm on October 13\, 2025. \nRegistration: Please register below (on this site) using a credit or debit card\, which is the quickest way to confirm your attendance. \nONLY if you need to pay by check\, please complete this form (click here) and email it to: registration@mipeers.org. Do not use this form if you are paying by credit/debit card. Please note that this form takes up to 5 business days for processing\, and placement is not assured until you receive a confirmation of your registration. \nCancellation Policy: Registrations may be transferred to another employee of the same agency upon written request to registration@mipeers.org. Cancellations must be received in writing at least 12 days prior to the date of the training. Failure to cancel registration within the allotted time will result in registration fees being forfeited. For questions\, e-mail registration@mipeers.org. \nAttendance Policy: You must attend the entire training. If you are more than 10 minutes late you will not be allowed to attend as part of the CE requirements. Breaks are built into the training schedule. Participants who miss more than 10 minutes of the training outside of scheduled breaks will not receive CE credit. Attendees must follow the training guidelines.
URL:https://mipeers.org/event/detroit-ethics-and-boundaries-for-peer-workers-4/
LOCATION:Team Wellness East\, 6309 Mack Ave\,\, Detroit\, MI\, 48207\, United States
CATEGORIES:Continuing Education
ATTACH;FMTTYPE=image/jpeg:https://mipeers.org/wp-content/uploads/2024/04/ethics-1254x692.jpg
ORGANIZER;CN="MDHHS Peer Services Area":MAILTO:MDHHS-PeerSupport@michigan.gov
END:VEVENT
BEGIN:VEVENT
DTSTART;TZID=America/Detroit:20251021T083000
DTEND;TZID=America/Detroit:20251023T163000
DTSTAMP:20260419T103327
CREATED:20250910T150322Z
LAST-MODIFIED:20250910T152628Z
UID:10000272-1761035400-1761237000@mipeers.org
SUMMARY:Detroit- Crisis Through a Peer Support Lens
DESCRIPTION:Crisis Through a Peer Support Lens:\nConnection\, Compassion\, and Care \nAs more peer workers serve in crisis settings roles\, it is vital to understand crisis through a peer lens\, stay rooted in core peer support values and remain anchored in peer support competencies. This training provides information\, skills\, and practical applications that peer workers can use in various crisis settings. \nBy the end of the training\, participants will be able to:\n• Define crisis through a peer support model.\n• Apply core peer support values to crisis situations.\n• Practice trauma-informed responses to reduce traumatization of self and others.\n• Use cultural knowledge to create connections.\n• Develop communication skills to use during crisis situations.\n• Support self and others after a crisis has occurred. \nApproved for 19.5 Continuing Education credits. \nRegistration for this event will end at 11:59 p.m. October 13\, 2025. \nBreakfast and lunch will be served at this training. \nRegistration: Please register below (on this site) using a credit or debit card\, which is the quickest way to confirm your attendance. ONLY if you need to pay by check\, please complete this form (click here) and email it to: registration@mipeers.org. Do not use this form if you are paying by credit/debit card.  Please note that this form takes up to 5 business days for processing\, and registration is not assured until we receive the check\, and you receive a confirmation of your registration. \nCancellation Policy: Registrations may be transferred to another employee of the same agency upon written request to registration@mipeers.org. Cancellations must be received in writing at least 12 days prior to the date of the training. Failure to cancel registration within the allotted time will result in registration fees being forfeited. For questions\, e-mail registration@mipeers.org. \nAttendance Policy: You must attend the entire training. If you are more than 10 minutes late you will not be allowed to attend as part of the CE requirements. Breaks are built into the training schedule. Participants who miss more than 10 minutes of the training outside of scheduled breaks will not receive CE credit. Attendees must follow the training guidelines.
URL:https://mipeers.org/event/detroit-crisis-through-a-peer-support-lens/
LOCATION:Team Wellness East\, 6309 Mack Ave\,\, Detroit\, MI\, 48207\, United States
CATEGORIES:Continuing Education
ATTACH;FMTTYPE=image/jpeg:https://mipeers.org/wp-content/uploads/2025/04/Untitled-design-1-pdf.jpg
ORGANIZER;CN="MDHHS Peer Services Area":MAILTO:MDHHS-PeerSupport@michigan.gov
END:VEVENT
BEGIN:VEVENT
DTSTART;TZID=America/Detroit:20251028T083000
DTEND;TZID=America/Detroit:20251028T163000
DTSTAMP:20260419T103327
CREATED:20250915T141116Z
LAST-MODIFIED:20251028T130355Z
UID:10000275-1761640200-1761669000@mipeers.org
SUMMARY:Port Huron- Ethics and Boundaries for Peer Workers
DESCRIPTION:NOTE: This training is only for individuals who are in the first renewal cycle of MDHHS continuing education requirements.  For the second recertification cycle\, Second Edition Ethics will be required. \nTraining Overview: \nCertified peers across the state of Michigan are required to adhere to the Peer Code of Ethics to help protect both clients and peers. While many ethical issues seem obvious\, others can be more nuanced or unexpected. In this training\, we will explore the Peer Code of Ethics in more detail while outlining effective strategies to set professional boundaries that can help avoid or respond to ethical concerns you may face. \nTraining Objectives: \n\nUnderstand the core components of the Michigan Department of Health and Human Services (MDHHS) Certified Peer Support Specialist (CPSS) and Certified Peer Recovery Coach (CPRC) code of ethics.\nExplore possibilities of how unethical decisions happen.\nIdentify and evaluate self-care practices to maintain boundaries and ethical behavior.\nExplore how to be more effective when setting and maintaining boundaries.\nPractice and exercise decision-making skills when presented with an ethical dilemma.\n\nEligible for 6.5 MDHHS Continuing Education credits. \nCoffee and lunch will be served at this training. \nRegistration for this event will end at 11:59 pm on October 21\, 2025. \nRegistration: Please register below (on this site) using a credit or debit card\, which is the quickest way to confirm your attendance. \nONLY if you need to pay by check\, please complete this form (click here) and email it to: registration@mipeers.org. Do not use this form if you are paying by credit/debit card. Please note that this form takes up to 5 business days for processing\, and placement is not assured until you receive a confirmation of your registration. \nCancellation Policy: Registrations may be transferred to another employee of the same agency upon written request to registration@mipeers.org. Cancellations must be received in writing at least 12 days prior to the date of the training. Failure to cancel registration within the allotted time will result in registration fees being forfeited. For questions\, e-mail registration@mipeers.org. \nAttendance Policy: You must attend the entire training. If you are more than 10 minutes late you will not be allowed to attend as part of the CE requirements. Breaks are built into the training schedule. Participants who miss more than 10 minutes of the training outside of scheduled breaks will not receive CE credit. Attendees must follow the training guidelines.
URL:https://mipeers.org/event/port-huron-ethics-and-boundaries-for-peer-workers/
LOCATION:Blue Water Recovery and Outreach Center\, 617 10th Street\, Port Huron\, 48060\, United States
CATEGORIES:Continuing Education
ATTACH;FMTTYPE=image/jpeg:https://mipeers.org/wp-content/uploads/2024/04/ethics-1254x692.jpg
ORGANIZER;CN="MDHHS Peer Services Area":MAILTO:MDHHS-PeerSupport@michigan.gov
END:VEVENT
BEGIN:VEVENT
DTSTART;TZID=America/Detroit:20251029T083000
DTEND;TZID=America/Detroit:20251029T163000
DTSTAMP:20260419T103327
CREATED:20250915T141551Z
LAST-MODIFIED:20250915T141849Z
UID:10000276-1761726600-1761755400@mipeers.org
SUMMARY:Port Huron- Spirituality for Peers
DESCRIPTION:The purpose of this program is to help you\, as a Peer\, understand what spirituality is and how you would help someone discover it. This two-day course will help you explore your own beliefs and values regarding spirituality. This training will provide you with the tools and resources needed as a Peer so you can speak about spirituality in an accepting way. This training is going to challenge you in a way that helps to promote your understanding of spirituality. Spirituality plays a large part in recovery and by completing this course\, you will be able to help those you serve understand\, accept\, and embrace spirituality for themselves. \nSpirituality Outcomes \n\nDiscuss the role of spirituality in the recovery process. Participants will learn to recognize barriers individuals may face in exploring their spirituality and develop strategies to address these challenges\, fostering resilience and coping mechanisms in recovery.\nIdentify and understand their own spiritual beliefs and values\, and how these may influence their peer work.\nDevelop skills to facilitate open and respectful discussions about spirituality with individuals in recovery\, fostering a safe space for exploration.\nEngage in self-care practices and strategies that nurture their own spiritual well-being. Participants will identify ways to help individuals build or connect with spiritual support networks.\nLearn how to collaboratively integrate spiritual practices and beliefs into individualized recovery plans\, enhancing holistic support.\n\nBy achieving these learning outcomes\, peers will be better equipped to support those they work with in exploring and integrating spirituality into their recovery process\, fostering a more holistic approach to healing. \nPresented by: \nRodasi Campbell\, CPRC\, RCPF\, ERYT\, is a woman on the path of discovery in recovery from substances\, mental health\, relationships\, and the mind. She has an extensive background in spirituality & health including yogic science\, women’s spirituality and alternative and earth-based spiritualities. Rodasi is a mom\, an author\, and Peer Recovery Coach Trainer for MDHHS. \nEligible for 6.5 MDHHS Continuing Education credits. \nRegistration for this event will end at 11:59 pm on October 21\, 2025. \nCoffee and lunch will be served at this training. \nRegistration: Please register below (on this site) using a credit or debit card\, which is the quickest way to confirm your attendance. \nONLY if you need to pay by check\, please complete this form (click here) and email it to: registration@mipeers.org. Do not use this form if you are paying by credit/debit card. \nCancellation Policy: Registrations may be transferred to another employee of the same agency upon written request to registration@mipeers.org. Cancellations must be received in writing at least 12 days prior to the date of the training. Failure to cancel registration within the allotted time will result in registration fees being forfeited. For questions\, e-mail registration@mipeers.org. \nAttendance Policy: You must attend the entire training. If you are more than 10 minutes late you will not be allowed to attend as part of the CE requirements. Breaks are built into the training schedule. Participants who miss more than 10 minutes of the training outside of scheduled breaks will not receive CE credit. Attendees must follow the training guidelines.
URL:https://mipeers.org/event/port-huron-spirituality-for-peers/
LOCATION:Blue Water Recovery and Outreach Center\, 617 10th Street\, Port Huron\, 48060\, United States
CATEGORIES:Continuing Education
ATTACH;FMTTYPE=application/pdf:https://mipeers.org/wp-content/uploads/2025/03/Untitled-design-10.pdf
ORGANIZER;CN="MDHHS Peer Services Area":MAILTO:MDHHS-PeerSupport@michigan.gov
END:VEVENT
END:VCALENDAR