BEGIN:VCALENDAR
VERSION:2.0
PRODID:-//MiPeers - ECPv6.15.20//NONSGML v1.0//EN
CALSCALE:GREGORIAN
METHOD:PUBLISH
X-WR-CALNAME:MiPeers
X-ORIGINAL-URL:https://mipeers.org
X-WR-CALDESC:Events for MiPeers
REFRESH-INTERVAL;VALUE=DURATION:PT1H
X-Robots-Tag:noindex
X-PUBLISHED-TTL:PT1H
BEGIN:VTIMEZONE
TZID:America/Detroit
BEGIN:DAYLIGHT
TZOFFSETFROM:-0500
TZOFFSETTO:-0400
TZNAME:EDT
DTSTART:20230312T070000
END:DAYLIGHT
BEGIN:STANDARD
TZOFFSETFROM:-0400
TZOFFSETTO:-0500
TZNAME:EST
DTSTART:20231105T060000
END:STANDARD
BEGIN:DAYLIGHT
TZOFFSETFROM:-0500
TZOFFSETTO:-0400
TZNAME:EDT
DTSTART:20240310T070000
END:DAYLIGHT
BEGIN:STANDARD
TZOFFSETFROM:-0400
TZOFFSETTO:-0500
TZNAME:EST
DTSTART:20241103T060000
END:STANDARD
BEGIN:DAYLIGHT
TZOFFSETFROM:-0500
TZOFFSETTO:-0400
TZNAME:EDT
DTSTART:20250309T070000
END:DAYLIGHT
BEGIN:STANDARD
TZOFFSETFROM:-0400
TZOFFSETTO:-0500
TZNAME:EST
DTSTART:20251102T060000
END:STANDARD
END:VTIMEZONE
BEGIN:VEVENT
DTSTART;TZID=America/Detroit:20240419T120000
DTEND;TZID=America/Detroit:20240419T130000
DTSTAMP:20260420T234524
CREATED:20240301T195110Z
LAST-MODIFIED:20240301T195110Z
UID:10000005-1713528000-1713531600@mipeers.org
SUMMARY:Continuing Education Q&A Session
DESCRIPTION:Have questions about the continuing education requirements for your CPSS or CPRC certification? Join representatives from MDHHS to get all of your questions answered. Registration is not necessary. \nThis session is hosted virtually through zoom. You can access the zoom meeting here.
URL:https://mipeers.org/event/continuing-education-qa-session-3/
LOCATION:MI
ORGANIZER;CN="MDHHS Peer Services Area":MAILTO:MDHHS-PeerSupport@michigan.gov
END:VEVENT
BEGIN:VEVENT
DTSTART;TZID=America/Detroit:20240416T090000
DTEND;TZID=America/Detroit:20240416T133000
DTSTAMP:20260420T234524
CREATED:20240304T184821Z
LAST-MODIFIED:20240308T004723Z
UID:10000017-1713258000-1713274200@mipeers.org
SUMMARY:Motivating Yourself with Kindness Instead of Criticism for Peers in Crisis Settings
DESCRIPTION:Eligible for 4 MDHHS Continuing Education Credits. $25 Registration Fee. \nWhen we first sense the need to make a change\, our impulse is often to respond negatively and criticize ourselves. We go over all the things we’ve done wrong and how we should have done\nthem differently. But that’s a poor strategy for creating meaningful change—research shows that instead\, we are much more likely to get results through kindness and encouragement. \nIn this class we will review the principles of self-compassion and then learn the practice of loving-kindness to cultivate an open and loving heart. Next\, we’ll examine how mindfulness\, loving-kindness\, and compassion go hand in hand and yet differ from each other in many ways. In this training\, students will explore self-criticism\, why it is so pervasive\, and how it often sabotages our attempts to change. Last\, we’ll investigate how care for oneself and self-kindness are effective approaches to positive transformation. \nTrainer: Carol Hendershot \nPlease see this link for registration.
URL:https://mipeers.org/event/motivating-yourself-with-kindness-instead-of-criticism-for-peers-in-crisis-settings/
LOCATION:Zoom
ORGANIZER;CN="MDHHS Peer Services Area":MAILTO:MDHHS-PeerSupport@michigan.gov
END:VEVENT
BEGIN:VEVENT
DTSTART;TZID=America/Detroit:20240411T083000
DTEND;TZID=America/Detroit:20240412T163000
DTSTAMP:20260420T234524
CREATED:20240329T145640Z
LAST-MODIFIED:20240329T145640Z
UID:10000024-1712824200-1712939400@mipeers.org
SUMMARY:Improving Self-Esteem
DESCRIPTION:Eligible for 13 MDHHS Continuing Education Credits. Please see this link for flyer and registration. \nImproving your self-esteem is a 2-day in-depth training that will help Peer workers see themselves differently and feel better about themselves. This will include taking time to drill down to a better understanding of where your lowest self-esteem comes from and being given the needed tools to improve your self-esteem from the inside out. Letting go of past hurts\, limiting beliefs\, and learning to forgive yourself are just some of the new strategies you’ll walk away with. \nTrainer: Chuck Hendrix
URL:https://mipeers.org/event/improving-self-esteem/
LOCATION:Ralph A. MacMullan Conference Center\, 104 Conservation Dr.\, Roscommon\, MI\, 48653\, United States
ORGANIZER;CN="MDHHS Peer Services Area":MAILTO:MDHHS-PeerSupport@michigan.gov
END:VEVENT
BEGIN:VEVENT
DTSTART;TZID=America/Detroit:20240409T090000
DTEND;TZID=America/Detroit:20240409T133000
DTSTAMP:20260420T234524
CREATED:20240304T184354Z
LAST-MODIFIED:20240308T004755Z
UID:10000016-1712653200-1712669400@mipeers.org
SUMMARY:Introduction to Self-Compassion for Peers in Crisis Settings
DESCRIPTION:Eligible for 4 MDHHS Continuing Education Credits. $25 Registration Fee. \nSelf-Compassion is the practice of befriending ourselves just the way we are. It gives us strategies to live fully through both the joys and the sorrows of our lives. It reminds us that all human beings struggle\, and we are not alone. It is a powerful tool for emotional resilience that teaches us to support ourselves with kindness and compassion instead of harshness and self-criticism.\nIn this class we will explore why mindfulness is the foundation of self-compassion and how we can leverage these practices to live happier and more productive lives. \nIn peer-reviewed studies\, Mindful Self-Compassion has been shown to significantly increase compassion for self and others as well as life satisfaction. It has also been shown to decrease depression\, anxiety\, and stress. \nTrainer: Carol Hendershot \nPlease use this link to register.
URL:https://mipeers.org/event/introduction-to-self-compassion-for-peers-in-crisis-settings/
LOCATION:Zoom
ORGANIZER;CN="MDHHS Peer Services Area":MAILTO:MDHHS-PeerSupport@michigan.gov
END:VEVENT
BEGIN:VEVENT
DTSTART;TZID=America/Detroit:20240408T083000
DTEND;TZID=America/Detroit:20240408T163000
DTSTAMP:20260420T234524
CREATED:20240329T145831Z
LAST-MODIFIED:20240329T145831Z
UID:10000025-1712565000-1712593800@mipeers.org
SUMMARY:Ethics
DESCRIPTION:Eligible for 6.5 MDHHS Continuing Education Credits. See this link for flyer and registration. \nCertified peers across the state of Michigan are required to adhere to the Peer Code of Ethics to help protect both clients and peers. While many ethical issues seem obvious\, others can be more nuanced or unexpected. In this training\, we will explore the Peer Code of Ethics in more detail while outlining effective strategies to set professional boundaries that can help avoid or respond to ethical concerns you may face.
URL:https://mipeers.org/event/ethics/
LOCATION:Ralph A. MacMullan Conference Center\, 104 Conservation Dr.\, Roscommon\, MI\, 48653\, United States
ORGANIZER;CN="MDHHS Peer Services Area":MAILTO:MDHHS-PeerSupport@michigan.gov
END:VEVENT
BEGIN:VEVENT
DTSTART;TZID=America/Detroit:20240405T090000
DTEND;TZID=America/Detroit:20240405T163000
DTSTAMP:20260420T234524
CREATED:20240304T183401Z
LAST-MODIFIED:20240308T004955Z
UID:10000015-1712307600-1712334600@mipeers.org
SUMMARY:Spring Equinox All-Day Finding Balance Retreat
DESCRIPTION:Eligible for 6 MDHHS continuing education credits. $25 Registration fee. \nIn this chaotic world filled with personal and professional commitments\, each of us could use some help in defining\, finding\, and holding on to that wonderful thing we call balance. A day of mindful silence can be a powerful and restorative experience\, whether you are new to these practices or a seasoned practitioner. In that spirit\, we would love to have you join us for a day of savoring each moment and building balance into your life. \nBefore the day begins\, we will send you instructions for creating a sanctuary in your home. During the day\, we will slowly guide you through practices that will expand your ability to settle and soften. If you are new to mindfulness\, you will be given options to ease in and out. If you already have an established meditation practice\, this will be a day of deepening. \nTrainer: Carol Hendershot \nPlease use this link to register. Eligible for 6 MDHHS Continuing Education Credits. $25 Registration Fee
URL:https://mipeers.org/event/spring-equinox-all-day-finding-balance-retreat/
LOCATION:Zoom
ORGANIZER;CN="MDHHS Peer Services Area":MAILTO:MDHHS-PeerSupport@michigan.gov
END:VEVENT
BEGIN:VEVENT
DTSTART;TZID=America/Detroit:20240405T083000
DTEND;TZID=America/Detroit:20240405T163000
DTSTAMP:20260420T234524
CREATED:20240302T220024Z
LAST-MODIFIED:20240308T005028Z
UID:10000013-1712305800-1712334600@mipeers.org
SUMMARY:Ethics and Boundaries
DESCRIPTION:Eligible for 6.5 MDHHS Continuing Education Credits. $50 Registration fee. \nCertified peers across the state of Michigan are required to adhere to the Peer Code of Ethics to help protect both clients and peers. While many ethical issues seem obvious\, others can be more nuanced or unexpected. In this training\, we will explore the Peer Code of Ethics in more detail while outlining effective strategies to set professional boundaries that can help avoid or respond to ethical concerns you may face. \nPlease see this link for the training flyer and registration information.
URL:https://mipeers.org/event/ethics-and-boundaries-2/
LOCATION:Integrated Services of Kalamazoo\, 418 W. Kalamazoo Ave.\, Kalamazoo\, MI\, 49007\, United States
ORGANIZER;CN="MDHHS Peer Services Area":MAILTO:MDHHS-PeerSupport@michigan.gov
END:VEVENT
BEGIN:VEVENT
DTSTART;TZID=America/Detroit:20240404T090000
DTEND;TZID=America/Detroit:20240404T160000
DTSTAMP:20260420T234524
CREATED:20240329T150549Z
LAST-MODIFIED:20240329T150549Z
UID:10000026-1712221200-1712246400@mipeers.org
SUMMARY:WRAP Training
DESCRIPTION:This training is eligible for 6.5 hours of MDHHS continuing education credits. Please see this link for the flyer and registration. \nTraining Objectives: \n\nRecognize the importance of the WRAP concept pertaining to your own wellness and recovery.\nList the five key concepts of WRAP.\nLearn the six sections of the WRAP plan.\nDevelop your individual WRAP plan.\nImplement WRAP into your daily life.\nApply the WRAP tools in your work as a Certified Peer Support Specialist or Certified Recovery Coach.\n\nTrainers: Deb Monroe and Jeanne White \n 
URL:https://mipeers.org/event/wrap-training/
LOCATION:Zoom
ORGANIZER;CN="MDHHS Peer Services Area":MAILTO:MDHHS-PeerSupport@michigan.gov
END:VEVENT
BEGIN:VEVENT
DTSTART;TZID=America/Detroit:20240404T083000
DTEND;TZID=America/Detroit:20240404T163000
DTSTAMP:20260420T234524
CREATED:20240302T215151Z
LAST-MODIFIED:20240308T005049Z
UID:10000012-1712219400-1712248200@mipeers.org
SUMMARY:Ethics and Boundaries
DESCRIPTION:Eligible for 6.5 MDHHS Continuing Education Credits. $50 Registration Fee. \nCertified peers across the state of Michigan are required to adhere to the Peer Code of Ethics to help protect both clients and peers. While many ethical issues seem obvious\, others can be more nuanced or unexpected. In this training\, we will explore the Peer Code of Ethics in more detail while outlining effective strategies to set professional boundaries that can help avoid or respond to ethical concerns you may face. \n Please use this link to the event flyer and registration information.
URL:https://mipeers.org/event/ethics-and-boundaries/
LOCATION:Integrated Services of Kalamazoo\, 418 W. Kalamazoo Ave.\, Kalamazoo\, MI\, 49007\, United States
ORGANIZER;CN="MDHHS Peer Services Area":MAILTO:MDHHS-PeerSupport@michigan.gov
END:VEVENT
BEGIN:VEVENT
DTSTART;TZID=America/Detroit:20240329T080000
DTEND;TZID=America/Detroit:20240329T170000
DTSTAMP:20260420T234524
CREATED:20240329T151618Z
LAST-MODIFIED:20240329T151618Z
UID:10000027-1711699200-1711731600@mipeers.org
SUMMARY:Meeting Difficult Emotions: Rewiring Your Brain for Happiness for Peers in Crisis Settings
DESCRIPTION:Eligible for MDHHS Continuing Education Credits. See this link for flyer and registration. \nWe evolved to have a negativity bias. It’s been hardwired since we were in caves to save us from predators. Today\, however\, many of the lions and tigers in our lives are created by our thoughts and emotions. As Mark Twain once said\, “I have had many catastrophes in my life\, most of which never happened.” – Mark Twain To create happiness\, and happiness first\, we must find healthy ways to work with our challenging thoughts and emotions. We’ll begin this workshop by discussing different strategies to defuse difficult emotions and learn practices to bring us back to balance. In the second part of this workshop\, we will learn methods to rebalance our nervous system and rewire our brains for a more positive outlook. \nTrainer: Carol Hendershot
URL:https://mipeers.org/event/meeting-difficult-emotions-rewiring-your-brain-for-happiness-for-peers-in-crisis-settings/
LOCATION:MI
ORGANIZER;CN="MDHHS Peer Services Area":MAILTO:MDHHS-PeerSupport@michigan.gov
END:VEVENT
BEGIN:VEVENT
DTSTART;TZID=America/Detroit:20240327T120000
DTEND;TZID=America/Detroit:20240327T130000
DTSTAMP:20260420T234524
CREATED:20240301T194958Z
LAST-MODIFIED:20240301T194958Z
UID:10000004-1711540800-1711544400@mipeers.org
SUMMARY:Continuing Education Q&A Session
DESCRIPTION:Have questions about the continuing education requirements for your CPSS or CPRC certification? Join representatives from MDHHS to get all of your questions answered. Registration is not necessary. \nThis session is hosted virtually through zoom. You can access the zoom meeting here.
URL:https://mipeers.org/event/continuing-education-qa-session-2/
LOCATION:MI
ORGANIZER;CN="MDHHS Peer Services Area":MAILTO:MDHHS-PeerSupport@michigan.gov
END:VEVENT
BEGIN:VEVENT
DTSTART;TZID=America/Detroit:20240315T093000
DTEND;TZID=America/Detroit:20240315T150000
DTSTAMP:20260420T234524
CREATED:20240302T213342Z
LAST-MODIFIED:20240308T005248Z
UID:10000009-1710495000-1710514800@mipeers.org
SUMMARY:Improving Your Self-Talk
DESCRIPTION:4.5 MDHHS Continuing Education Credits Available. $25 Registration Fee \nWhat would it be like if you could direct your internal dialogue where you want it to go? Wouldn’t it be great to silence (at least some of the time) your inner critic? Improving Your Self-Talk will help you do that very thing. This training will tell you how to “Catch it\, Check it\, Change it”. It will allow you to be in the “driver’s seat” of your own head (for the most part). \nParticipants will: \n\nFind unique ways to quiet your internal dialogue.\nHear strategies on how to be your own cheerleader.\nSee how you can improve your self-talk by changing sub modalities.\nListen to ways to keep yourself feel better by improving your self-talk.\nLook at the way you talk to yourself in a different light.\nFeel a sense of control as you take back control of your thoughts.\n\nTrainer: Chuck Hendrix \nPlease use this link to view the flyer and register.
URL:https://mipeers.org/event/improving-your-self-talk/
LOCATION:Zoom
ORGANIZER;CN="MDHHS Peer Services Area":MAILTO:MDHHS-PeerSupport@michigan.gov
END:VEVENT
BEGIN:VEVENT
DTSTART;TZID=America/Detroit:20240314T120000
DTEND;TZID=America/Detroit:20240314T130000
DTSTAMP:20260420T234524
CREATED:20240301T194840Z
LAST-MODIFIED:20240301T194840Z
UID:10000003-1710417600-1710421200@mipeers.org
SUMMARY:Continuing Education Q&A Session
DESCRIPTION:Have questions about the continuing education requirements for your CPSS or CPRC certification? Join representatives from MDHHS to get all of your questions answered. Registration is not necessary. \nThis session is hosted virtually through zoom. You can access the zoom meeting here.
URL:https://mipeers.org/event/continuing-education-qa-session/
LOCATION:MI
ORGANIZER;CN="MDHHS Peer Services Area":MAILTO:MDHHS-PeerSupport@michigan.gov
END:VEVENT
END:VCALENDAR