BEGIN:VCALENDAR
VERSION:2.0
PRODID:-//MiPeers - ECPv6.15.20//NONSGML v1.0//EN
CALSCALE:GREGORIAN
METHOD:PUBLISH
X-WR-CALNAME:MiPeers
X-ORIGINAL-URL:https://mipeers.org
X-WR-CALDESC:Events for MiPeers
REFRESH-INTERVAL;VALUE=DURATION:PT1H
X-Robots-Tag:noindex
X-PUBLISHED-TTL:PT1H
BEGIN:VTIMEZONE
TZID:America/Detroit
BEGIN:DAYLIGHT
TZOFFSETFROM:-0500
TZOFFSETTO:-0400
TZNAME:EDT
DTSTART:20240310T070000
END:DAYLIGHT
BEGIN:STANDARD
TZOFFSETFROM:-0400
TZOFFSETTO:-0500
TZNAME:EST
DTSTART:20241103T060000
END:STANDARD
BEGIN:DAYLIGHT
TZOFFSETFROM:-0500
TZOFFSETTO:-0400
TZNAME:EDT
DTSTART:20250309T070000
END:DAYLIGHT
BEGIN:STANDARD
TZOFFSETFROM:-0400
TZOFFSETTO:-0500
TZNAME:EST
DTSTART:20251102T060000
END:STANDARD
BEGIN:DAYLIGHT
TZOFFSETFROM:-0500
TZOFFSETTO:-0400
TZNAME:EDT
DTSTART:20260308T070000
END:DAYLIGHT
BEGIN:STANDARD
TZOFFSETFROM:-0400
TZOFFSETTO:-0500
TZNAME:EST
DTSTART:20261101T060000
END:STANDARD
END:VTIMEZONE
BEGIN:VEVENT
DTSTART;TZID=America/Detroit:20251203T083000
DTEND;TZID=America/Detroit:20251203T163000
DTSTAMP:20260419T175119
CREATED:20250929T175322Z
LAST-MODIFIED:20251028T135531Z
UID:10000278-1764750600-1764779400@mipeers.org
SUMMARY:Grand Rapids- Ethics and Boundaries for Peer Workers
DESCRIPTION:NOTE: This training is only for individuals who are in the first recertification cycle of MDHHS continuing education requirements.  For the second recertification cycle\, Second Edition Ethics will be required. \nTraining Overview: \nCertified peers across the state of Michigan are required to adhere to the Peer Code of Ethics to help protect both clients and peers. While many ethical issues seem obvious\, others can be more nuanced or unexpected. In this training\, we will explore the Peer Code of Ethics in more detail while outlining effective strategies to set professional boundaries that can help avoid or respond to ethical concerns you may face. \nTraining Objectives: \n\nUnderstand the core components of the Michigan Department of Health and Human Services (MDHHS) Certified Peer Support Specialist (CPSS) and Certified Peer Recovery Coach (CPRC) code of ethics.\nExplore possibilities of how unethical decisions happen.\nIdentify and evaluate self-care practices to maintain boundaries and ethical behavior.\nExplore how to be more effective when setting and maintaining boundaries.\nPractice and exercise decision-making skills when presented with an ethical dilemma.\n\nEligible for 6.5 MDHHS Continuing Education credits. \nCoffee and lunch will be served at this training. \nRegistration for this event will end at 11:59 pm on November 24\, 2025. \nRegistration: Please register below (on this site) using a credit or debit card\, which is the quickest way to confirm your attendance. \nONLY if you need to pay by check\, please complete this form (click here) and email it to: registration@mipeers.org. Do not use this form if you are paying by credit/debit card. Please note that this form takes up to 5 business days for processing\, and placement is not assured until you receive a confirmation of your registration. \nCancellation Policy: Registrations may be transferred to another employee of the same agency upon written request to registration@mipeers.org. Cancellations must be received in writing at least 12 days prior to the date of the training. Failure to cancel registration within the allotted time will result in registration fees being forfeited. For questions\, e-mail registration@mipeers.org. \nAttendance Policy: You must attend the entire training. If you are more than 10 minutes late you will not be allowed to attend as part of the CE requirements. Breaks are built into the training schedule. Participants who miss more than 10 minutes of the training outside of scheduled breaks will not receive CE credit. Attendees must follow the training guidelines.
URL:https://mipeers.org/event/grand-rapids-ethics-and-boundaries-for-peer-workers/
LOCATION:Country Inn & Suites by Radisson\, Grand Rapids East\, 3251 Deposit Dr NE\, Grand Rapids\, MI\, 49546\, United States
CATEGORIES:Continuing Education
ATTACH;FMTTYPE=image/jpeg:https://mipeers.org/wp-content/uploads/2024/04/ethics-1254x692.jpg
ORGANIZER;CN="MDHHS Peer Services Area":MAILTO:MDHHS-PeerSupport@michigan.gov
END:VEVENT
BEGIN:VEVENT
DTSTART;TZID=America/Detroit:20251203T120000
DTEND;TZID=America/Detroit:20251203T130000
DTSTAMP:20260419T175119
CREATED:20251120T183046Z
LAST-MODIFIED:20251120T183046Z
UID:10000307-1764763200-1764766800@mipeers.org
SUMMARY:Continuing Education Q&A Session
DESCRIPTION:Have questions about the continuing education requirements for your CPSS or CPRC certification? Join representatives from MDHHS to get all of your questions answered. Registration is not necessary. \nThis session is hosted virtually through zoom. You can access the zoom meeting here. \nMeeting ID: 885 2065 6938 \nPasscode: Umzjj2 \n— \nOne tap mobile \n+19292056099\,\,82762401475# US (New York) \n+13017158592\,\,82762401475# US (Washington DC) \nJoin instructions \nhttps://us06web.zoom.us/meetings/82762401475/invitations?signature=u_3VNX1s1CSpFZ5lkM1bBIoNAFMK6QMevA4ePY4lNLo
URL:https://mipeers.org/event/continuing-education-qa-session-37/
LOCATION:Zoom
CATEGORIES:Continuing Education
ORGANIZER;CN="MDHHS Peer Services Area":MAILTO:MDHHS-PeerSupport@michigan.gov
END:VEVENT
END:VCALENDAR