BEGIN:VCALENDAR
VERSION:2.0
PRODID:-//MiPeers - ECPv6.15.20//NONSGML v1.0//EN
CALSCALE:GREGORIAN
METHOD:PUBLISH
X-WR-CALNAME:MiPeers
X-ORIGINAL-URL:https://mipeers.org
X-WR-CALDESC:Events for MiPeers
REFRESH-INTERVAL;VALUE=DURATION:PT1H
X-Robots-Tag:noindex
X-PUBLISHED-TTL:PT1H
BEGIN:VTIMEZONE
TZID:America/Detroit
BEGIN:DAYLIGHT
TZOFFSETFROM:-0500
TZOFFSETTO:-0400
TZNAME:EDT
DTSTART:20240310T070000
END:DAYLIGHT
BEGIN:STANDARD
TZOFFSETFROM:-0400
TZOFFSETTO:-0500
TZNAME:EST
DTSTART:20241103T060000
END:STANDARD
BEGIN:DAYLIGHT
TZOFFSETFROM:-0500
TZOFFSETTO:-0400
TZNAME:EDT
DTSTART:20250309T070000
END:DAYLIGHT
BEGIN:STANDARD
TZOFFSETFROM:-0400
TZOFFSETTO:-0500
TZNAME:EST
DTSTART:20251102T060000
END:STANDARD
BEGIN:DAYLIGHT
TZOFFSETFROM:-0500
TZOFFSETTO:-0400
TZNAME:EDT
DTSTART:20260308T070000
END:DAYLIGHT
BEGIN:STANDARD
TZOFFSETFROM:-0400
TZOFFSETTO:-0500
TZNAME:EST
DTSTART:20261101T060000
END:STANDARD
END:VTIMEZONE
BEGIN:VEVENT
DTSTART;TZID=America/Detroit:20250522T082900
DTEND;TZID=America/Detroit:20250522T163000
DTSTAMP:20260419T135333
CREATED:20250401T193917Z
LAST-MODIFIED:20250617T183424Z
UID:10000199-1747902540-1747931400@mipeers.org
SUMMARY:Grand Rapids Summit- The Healing Power of Mindfulness and Self- Kindness for Peers in Crisis Settings
DESCRIPTION:Do not say that awareness and kindness are separate.\nOne cannot arise without the other.\nAwareness is the foundation of kindness\nand kindness is the foundation of awareness. \nMindfulness is a special way of paying attention that enhances well-being and wisdom. Self-kindness is befriending and supporting ourselves through the struggles of life. The two are like the wings of a bird that find more balance and ease. They help us remember all of us struggle\, and we are not alone. These powerful tools enhance emotional resilience and well-being. In peer-reviewed studies\, mindfulness and self-kindness have been shown to significantly increase as life satisfaction as well as compassion for self and others and decrease depression\, anxiety\, and stress. \nSome things you will learn:\n-What mindfulness and self-compassion are\, their benefits\, and the research that supports them.\n-The myths surrounding these practices.\n-How these practices help us live our values.\n-How we cause ourselves unnecessary suffering and what to do about it.\n-How we can be more effective by motivating ourselves with kindness rather than criticism. \nHow to prepare:\n-Wear loose comfortable clothing and dress in layers for comfort.\n-Bring a water bottle.\n-Arrange to keep technology to a minimum.\n-There will be a 60-minute lunch break as part of the day.\n-Suspend judgment and meet the day with curiosity and openness. \nWhat’s Included:\n-Mindfulness and Self-Kindness handbook.\n-Mindfulness and Self-kindness audio practices.\n-Gentle mindful movement videos. \nCarol Hendershot\, Exp RYT 500 Yoga Instructor\nCertified Mindfulness-Based Stress Reduction Instructor\nCo-Founder\, Grand Rapids Center for Mindfulness\nCarol has been teaching Mindfulness-Based Stress Reduction (MBSR) since 2008 and Mindful Self-Compassion classes since 2014. She has led hundreds of students through these programs. Her classes emphasize safety and self-honoring as she guides students to\nbuild resilience and strengthen their mindfulness skills. \nGrandrapidscenterformindfulness.com – carolhendershot@gmail.com – 616-745-1864 \nEligible for 6.5 MDHHS Continuing Education credits.  \nRegistration for this event will end at 11:59 p.m. on May 12\, 2025. \nRegistration: Please register below (on this site) using a credit or debit card\, which is the quickest way to confirm your attendance. \nONLY if you need to pay by check\, please complete this form (click here) and email it to: registration@mipeers.org. Do not use this form if you are paying by credit/debit card. Please note that this form takes up to 5 business days for processing\, and placement is not assured until you receive a confirmation of your registration. \nCancellation Policy: Registrations may be transferred to another employee of the same agency upon written request to registration@mipeers.org. Cancellations must be received in writing at least 12 days prior to the date of the training. Failure to cancel registration within the allotted time will result in registration fees being forfeited. For questions\, e-mail registration@mipeers.org. \nAttendance Policy: You must attend the entire training. If you are more than 10 minutes late you will not be allowed to attend as part of the CE requirements. Breaks are built into the training schedule. Participants who miss more than 10 minutes of the training outside of scheduled breaks will not receive CE credit. Attendees must follow the training guidelines.
URL:https://mipeers.org/event/western-michigan-summit-the-healing-power-of-mindfulness-and-self-kindness-for-peers-in-crisis-settings/
LOCATION:Sheraton Grand Rapids Airport Hotel\, 5700 28th Street\, Grand Rapids\, MI\, 49546\, United States
CATEGORIES:Continuing Education
ATTACH;FMTTYPE=image/jpeg:https://mipeers.org/wp-content/uploads/2024/05/monarch-2500x1407.jpg
ORGANIZER;CN="MDHHS Peer Services Area":MAILTO:MDHHS-PeerSupport@michigan.gov
END:VEVENT
END:VCALENDAR