BEGIN:VCALENDAR
VERSION:2.0
PRODID:-//MiPeers - ECPv6.15.20//NONSGML v1.0//EN
CALSCALE:GREGORIAN
METHOD:PUBLISH
X-WR-CALNAME:MiPeers
X-ORIGINAL-URL:https://mipeers.org
X-WR-CALDESC:Events for MiPeers
REFRESH-INTERVAL;VALUE=DURATION:PT1H
X-Robots-Tag:noindex
X-PUBLISHED-TTL:PT1H
BEGIN:VTIMEZONE
TZID:America/Detroit
BEGIN:DAYLIGHT
TZOFFSETFROM:-0500
TZOFFSETTO:-0400
TZNAME:EDT
DTSTART:20240310T070000
END:DAYLIGHT
BEGIN:STANDARD
TZOFFSETFROM:-0400
TZOFFSETTO:-0500
TZNAME:EST
DTSTART:20241103T060000
END:STANDARD
BEGIN:DAYLIGHT
TZOFFSETFROM:-0500
TZOFFSETTO:-0400
TZNAME:EDT
DTSTART:20250309T070000
END:DAYLIGHT
BEGIN:STANDARD
TZOFFSETFROM:-0400
TZOFFSETTO:-0500
TZNAME:EST
DTSTART:20251102T060000
END:STANDARD
BEGIN:DAYLIGHT
TZOFFSETFROM:-0500
TZOFFSETTO:-0400
TZNAME:EDT
DTSTART:20260308T070000
END:DAYLIGHT
BEGIN:STANDARD
TZOFFSETFROM:-0400
TZOFFSETTO:-0500
TZNAME:EST
DTSTART:20261101T060000
END:STANDARD
END:VTIMEZONE
BEGIN:VEVENT
DTSTART;TZID=America/Detroit:20250520T083000
DTEND;TZID=America/Detroit:20250521T163000
DTSTAMP:20260420T143627
CREATED:20250401T193620Z
LAST-MODIFIED:20250527T133014Z
UID:10000193-1747729800-1747845000@mipeers.org
SUMMARY:Grand Rapids Summit - Emotional CPR Two Day Training
DESCRIPTION:Emotional CPR (eCPR) is a public health educational program designed to teach people to assist others through an emotional crisis in three simple steps: Connecting\, Empowering and Revitalizing. \nEmotional CPR (eCPR) is based on the principles shared by several support approaches: \n\nTrauma-informed care.\nCounseling after disasters.\nPeer support.\nEmotional intelligence.\nSuicide prevention.\nCultural attunement.\n\nParticipants will learn to: \n\nAssist individuals in transforming anger and rage into passion and strength.\nInspire motivation and change.\nHelp others tap into their courage and power.\nReframe crisis as opportunity.\nEncourage the people they serve to take steps in the direction of their dreams.\nLearn the importance of taking care of themselves so that they can support others.\nFacilitate the other persons access to inner wisdom.\n\nWho Can Attend: \nMDDHS Certified Peer Support Specialists\nMDDHS Certified Peer Recovery Coaches \nTrainers:\nCarolyn Pifer\, CPSS\,\nBraunwynn Franklin\, CPSS\nBecky Cronin\, CPSS\n*Trainers may be subject to change* \nEligible for 13 MDHHS Continuing Education credits. \nRegistration for this event will end at 11:59 p.m. on May 12\, 2025. \nRegistration: Please register below (on this site) using a credit or debit card\, which is the quickest way to confirm your attendance. \nONLY if you need to pay by check\, please complete this form (click here) and email it to: registration@mipeers.org. Do not use this form if you are paying by credit/debit card. Please note that this form takes up to 5 business days for processing\, and placement is not assured until you receive a confirmation of your registration. \nCancellation Policy: Registrations may be transferred to another employee of the same agency upon written request to registration@mipeers.org. Cancellations must be received in writing at least 12 days prior to the date of the training. Failure to cancel registration within the allotted time will result in registration fees being forfeited. For questions\, e-mail registration@mipeers.org. \nAttendance Policy: You must attend the entire training. If you are more than 10 minutes late you will not be allowed to attend as part of the CE requirements. Breaks are built into the training schedule. Participants who miss more than 10 minutes of the training outside of scheduled breaks will not receive CE credit. Attendees must follow the training guidelines.
URL:https://mipeers.org/event/western-michigan-summit-emotional-cpr-two-day-training/
LOCATION:Sheraton Grand Rapids Airport Hotel\, 5700 28th Street\, Grand Rapids\, MI\, 49546\, United States
CATEGORIES:Continuing Education
ATTACH;FMTTYPE=image/jpeg:https://mipeers.org/wp-content/uploads/2024/05/GettyImages-1316037109-befbf7445a0d4fb28c0b81685520ae1e-1500x844-e1720721793994.jpg
ORGANIZER;CN="MDHHS Peer Services Area":MAILTO:MDHHS-PeerSupport@michigan.gov
END:VEVENT
END:VCALENDAR