BEGIN:VCALENDAR
VERSION:2.0
PRODID:-//MiPeers - ECPv6.15.20//NONSGML v1.0//EN
CALSCALE:GREGORIAN
METHOD:PUBLISH
X-ORIGINAL-URL:https://mipeers.org
X-WR-CALDESC:Events for MiPeers
REFRESH-INTERVAL;VALUE=DURATION:PT1H
X-Robots-Tag:noindex
X-PUBLISHED-TTL:PT1H
BEGIN:VTIMEZONE
TZID:America/Detroit
BEGIN:DAYLIGHT
TZOFFSETFROM:-0500
TZOFFSETTO:-0400
TZNAME:EDT
DTSTART:20240310T070000
END:DAYLIGHT
BEGIN:STANDARD
TZOFFSETFROM:-0400
TZOFFSETTO:-0500
TZNAME:EST
DTSTART:20241103T060000
END:STANDARD
BEGIN:DAYLIGHT
TZOFFSETFROM:-0500
TZOFFSETTO:-0400
TZNAME:EDT
DTSTART:20250309T070000
END:DAYLIGHT
BEGIN:STANDARD
TZOFFSETFROM:-0400
TZOFFSETTO:-0500
TZNAME:EST
DTSTART:20251102T060000
END:STANDARD
BEGIN:DAYLIGHT
TZOFFSETFROM:-0500
TZOFFSETTO:-0400
TZNAME:EDT
DTSTART:20260308T070000
END:DAYLIGHT
BEGIN:STANDARD
TZOFFSETFROM:-0400
TZOFFSETTO:-0500
TZNAME:EST
DTSTART:20261101T060000
END:STANDARD
END:VTIMEZONE
BEGIN:VEVENT
DTSTART;TZID=America/Detroit:20250501T083000
DTEND;TZID=America/Detroit:20250501T163000
DTSTAMP:20260421T014231
CREATED:20250320T123819Z
LAST-MODIFIED:20250502T164238Z
UID:10000184-1746088200-1746117000@mipeers.org
SUMMARY:Dearborn/Detroit- Voices\, Visions and Unusual Beliefs
DESCRIPTION:Participants in this training will learn directly from people who have experienced voices\, visions and unusual beliefs and will come away with strategies and approaches that they can use in work and life! \nThis training is designed for peers who want to explore current research\, innovative strategies\, and supports developed by people with lived experience of hearing voices and/or seeing visions from around the world. \nLearning Objectives: \nParticipants will explore: \n\nHow trauma\, culture and social factors influence voice-hearing.\nCommon myths about voices & visions and how to shift these paradigms.\nA new dialogue framework to discuss non-consensus reality states in a supportive way.\nDozens of real-life strategies that are used by voice-hearers to cope with a distressing experience.\n\nTraining provided by: The Wildflower Alliance. \nEligible for 6.5 MDHHS Continuing Education credits. \nRegistration for this event will end at 11:59 pm on April 21\, 2025. \nRegistration: Please register below (on this site) using a credit or debit card\, which is the quickest way to confirm your attendance. \nONLY if you need to pay by check\, please complete this form (click here) and email it to: registration@mipeers.org. Do not use this form if you are paying by credit/debit card. Please note that this form takes up to 5 business days for processing\, and placement is not assured until you receive a confirmation of your registration. \nCancellation Policy: Registrations may be transferred to another employee of the same agency upon written request to registration@mipeers.org. Cancellations must be received in writing at least 12 days prior to the date of the training. Failure to cancel registration within the allotted time will result in registration fees being forfeited. For questions\, e-mail registration@mipeers.org. \nAttendance Policy: You must attend the entire training. If you are more than 10 minutes late you will not be allowed to attend as part of the CE requirements. Breaks are built into the training schedule. Participants who miss more than 10 minutes of the training outside of scheduled breaks will not receive CE credit. Attendees must follow the training guidelines.
URL:https://mipeers.org/event/dearborn-voices-visions-and-unusual-beliefs/
LOCATION:DoubleTree by Hilton Hotel Detroit – Dearborn\, 5801 Southfield Fwy\, Detroit\, 48228\, United States
CATEGORIES:Continuing Education
ATTACH;FMTTYPE=application/pdf:https://mipeers.org/wp-content/uploads/2025/03/Untitled-design-6-1.pdf
ORGANIZER;CN="MDHHS Peer Services Area":MAILTO:MDHHS-PeerSupport@michigan.gov
END:VEVENT
END:VCALENDAR