BEGIN:VCALENDAR
VERSION:2.0
PRODID:-//MiPeers - ECPv6.15.20//NONSGML v1.0//EN
CALSCALE:GREGORIAN
METHOD:PUBLISH
X-WR-CALNAME:MiPeers
X-ORIGINAL-URL:https://mipeers.org
X-WR-CALDESC:Events for MiPeers
REFRESH-INTERVAL;VALUE=DURATION:PT1H
X-Robots-Tag:noindex
X-PUBLISHED-TTL:PT1H
BEGIN:VTIMEZONE
TZID:America/Detroit
BEGIN:DAYLIGHT
TZOFFSETFROM:-0500
TZOFFSETTO:-0400
TZNAME:EDT
DTSTART:20240310T070000
END:DAYLIGHT
BEGIN:STANDARD
TZOFFSETFROM:-0400
TZOFFSETTO:-0500
TZNAME:EST
DTSTART:20241103T060000
END:STANDARD
BEGIN:DAYLIGHT
TZOFFSETFROM:-0500
TZOFFSETTO:-0400
TZNAME:EDT
DTSTART:20250309T070000
END:DAYLIGHT
BEGIN:STANDARD
TZOFFSETFROM:-0400
TZOFFSETTO:-0500
TZNAME:EST
DTSTART:20251102T060000
END:STANDARD
BEGIN:DAYLIGHT
TZOFFSETFROM:-0500
TZOFFSETTO:-0400
TZNAME:EDT
DTSTART:20260308T070000
END:DAYLIGHT
BEGIN:STANDARD
TZOFFSETFROM:-0400
TZOFFSETTO:-0500
TZNAME:EST
DTSTART:20261101T060000
END:STANDARD
END:VTIMEZONE
BEGIN:VEVENT
DTSTART;TZID=America/Detroit:20250207T083000
DTEND;TZID=America/Detroit:20250207T163000
DTSTAMP:20260421T215657
CREATED:20250110T150516Z
LAST-MODIFIED:20250127T172425Z
UID:10000148-1738917000-1738945800@mipeers.org
SUMMARY:Troy- Trauma Informed Peer Support
DESCRIPTION:Training Objectives: \n\nDefine trauma\, its effects on us and others.\nUnderstand how our own trauma experiences influence our support responses.\nSelf-assess our level of risk for compassion fatigue\, burnout\, and secondary traumatic stress.\nDevelop strategies that will serve as protective factors when supporting others.\nLearn to recognize re-traumatization.\nInteract in ways that minimize re-traumatization.\nDiscover how to support post-traumatic growth.\nIntegrate knowledge about trauma into peer support practices.\n\nAbout the Trainer: Trenda Hedges\, CRSS\, CPRS\, Peer Power \nTrenda Hedges believes in the power of lived experience.  As the CEO of Peer Power\, she envisions individual lives\, communities\, and entire systems positively impacted because of the power of lived experience through peer support. In addition to being a person in long term recovery\, Trenda is a Certified Recovery Support Specialist (CRSS)\, Certified Peer Recovery Specialist (CPRS)\, and Advance Level WRAP® Facilitator. \nEligible for 6.5 MDHHS Continuing Education credits. \nRegistration for this event will end at 11:59 p.m. on January 28\, 2025. \nRegistration: Please register below (on this site) using a credit or debit card\, which is the quickest way to confirm your attendance. \nONLY if you need to pay by check\, please complete this form (click here) and email it to: registration@mipeers.org. Do not use this form if you are paying by credit/debit card. \nCancellation Policy: Registrations may be transferred to another employee of the same agency upon written request to registration@mipeers.org. Cancellations must be received in writing at least 12 days prior to the date of the training. Failure to cancel registration within the allotted time will result in registration fees being forfeited. For questions\, e-mail registration@mipeers.org. \nAttendance Policy: You must attend the entire training. If you are more than 10 minutes late you will not be allowed to attend as part of the CE requirements. Breaks are built into the training schedule. Participants who miss more than 10 minutes of the training outside of scheduled breaks will not receive CE credit. Attendees must follow the training guidelines.
URL:https://mipeers.org/event/troy-trauma-informed-peer-support/
LOCATION:Embassy Suites\, 850 Tower Dr.\, Troy\, MI\, 48098\, United States
CATEGORIES:Continuing Education
ATTACH;FMTTYPE=image/jpeg:https://mipeers.org/wp-content/uploads/2025/01/Untitled-design-10-1920x1080.jpg
ORGANIZER;CN="MDHHS Peer Services Area":MAILTO:MDHHS-PeerSupport@michigan.gov
END:VEVENT
BEGIN:VEVENT
DTSTART;TZID=America/Detroit:20250207T120000
DTEND;TZID=America/Detroit:20250207T130000
DTSTAMP:20260421T215657
CREATED:20250129T141420Z
LAST-MODIFIED:20250129T141420Z
UID:10000154-1738929600-1738933200@mipeers.org
SUMMARY:Continuing Education Q&A Session
DESCRIPTION:Have questions about the continuing education requirements for your CPSS or CPRC certification? Join representatives from MDHHS to get all of your questions answered. Registration is not necessary. \nThis session is hosted virtually through zoom. You can access the zoom meeting here. \nMeeting ID: 822 8743 2066 \nPasscode: FvPG8M
URL:https://mipeers.org/event/continuing-education-qa-session-19/
LOCATION:MI
CATEGORIES:Continuing Education
ORGANIZER;CN="MDHHS Peer Services Area":MAILTO:MDHHS-PeerSupport@michigan.gov
END:VEVENT
END:VCALENDAR