BEGIN:VCALENDAR
VERSION:2.0
PRODID:-//MiPeers - ECPv6.15.20//NONSGML v1.0//EN
CALSCALE:GREGORIAN
METHOD:PUBLISH
X-WR-CALNAME:MiPeers
X-ORIGINAL-URL:https://mipeers.org
X-WR-CALDESC:Events for MiPeers
REFRESH-INTERVAL;VALUE=DURATION:PT1H
X-Robots-Tag:noindex
X-PUBLISHED-TTL:PT1H
BEGIN:VTIMEZONE
TZID:America/Detroit
BEGIN:DAYLIGHT
TZOFFSETFROM:-0500
TZOFFSETTO:-0400
TZNAME:EDT
DTSTART:20240310T070000
END:DAYLIGHT
BEGIN:STANDARD
TZOFFSETFROM:-0400
TZOFFSETTO:-0500
TZNAME:EST
DTSTART:20241103T060000
END:STANDARD
BEGIN:DAYLIGHT
TZOFFSETFROM:-0500
TZOFFSETTO:-0400
TZNAME:EDT
DTSTART:20250309T070000
END:DAYLIGHT
BEGIN:STANDARD
TZOFFSETFROM:-0400
TZOFFSETTO:-0500
TZNAME:EST
DTSTART:20251102T060000
END:STANDARD
BEGIN:DAYLIGHT
TZOFFSETFROM:-0500
TZOFFSETTO:-0400
TZNAME:EDT
DTSTART:20260308T070000
END:DAYLIGHT
BEGIN:STANDARD
TZOFFSETFROM:-0400
TZOFFSETTO:-0500
TZNAME:EST
DTSTART:20261101T060000
END:STANDARD
END:VTIMEZONE
BEGIN:VEVENT
DTSTART;TZID=America/Detroit:20250206T083000
DTEND;TZID=America/Detroit:20250206T163000
DTSTAMP:20260424T074835
CREATED:20241219T145041Z
LAST-MODIFIED:20250127T173130Z
UID:10000131-1738830600-1738859400@mipeers.org
SUMMARY:Troy- Peer Drift
DESCRIPTION:Training Objectives: \n\nExplore the peer perspective.\nIdentify signs of drifting.\nDiscover how to stay anchored to avoid drifting.\nRecover passion and purpose.\n\nAbout the Trainer:  \nTrenda Hedges\, CRSS\, CPRS\nPeer Power\, LLC \nTrenda Hedges believes in the power of lived experience. As the CEO of Peer Power\, she envisions individual lives\, communities\, and entire systems positively impacted because of the power of lived experience through peer support. Trenda shares both her lived and professional expertise to positively impact the systems in which peer supporters live\, work\, and learn. In addition to her lived experience\, Trenda is a Certified Recovery Support Specialist (CRSS)\, Certified Peer Recovery Specialist (CPRS)\, and Advance Level WRAP® Facilitator. \nThis course is eligible for 6.5 Continuing Education credits. \nRegistration: Please register below (on this site) using a credit or debit card\, which is the quickest way to confirm your attendance. \nRegistration for this event will end at 11:59 p.m. on January 27\, 2025. \nONLY if you need to pay by check\, please complete this form (click here) and email it to: registration@mipeers.org. Do not use this form if you are paying by credit/debit card. \nCancellation Policy: Registrations may be transferred to another employee of the same agency upon written request to registration@mipeers.org. Cancellations must be received in writing at least 12 days prior to the date of the training. Failure to cancel registration within the allotted time will result in registration fees being forfeited. For questions\, e-mail registration@mipeers.org. \nAttendance Policy: You must attend the entire training. If you are more than 10 minutes late you will not be allowed to attend as part of the CE requirements. Breaks are built into the training schedule. Participants who miss more than 10 minutes of the training outside of scheduled breaks will not receive CE credit. Attendees must follow the training guidelines.
URL:https://mipeers.org/event/troy-peer-drift/
LOCATION:Embassy Suites\, 850 Tower Dr.\, Troy\, MI\, 48098\, United States
CATEGORIES:Continuing Education
ATTACH;FMTTYPE=image/png:https://mipeers.org/wp-content/uploads/2024/05/PeerDrift.png
ORGANIZER;CN="MDHHS Peer Services Area":MAILTO:MDHHS-PeerSupport@michigan.gov
END:VEVENT
END:VCALENDAR