BEGIN:VCALENDAR
VERSION:2.0
PRODID:-//MiPeers - ECPv6.15.20//NONSGML v1.0//EN
CALSCALE:GREGORIAN
METHOD:PUBLISH
X-WR-CALNAME:MiPeers
X-ORIGINAL-URL:https://mipeers.org
X-WR-CALDESC:Events for MiPeers
REFRESH-INTERVAL;VALUE=DURATION:PT1H
X-Robots-Tag:noindex
X-PUBLISHED-TTL:PT1H
BEGIN:VTIMEZONE
TZID:America/Detroit
BEGIN:DAYLIGHT
TZOFFSETFROM:-0500
TZOFFSETTO:-0400
TZNAME:EDT
DTSTART:20240310T070000
END:DAYLIGHT
BEGIN:STANDARD
TZOFFSETFROM:-0400
TZOFFSETTO:-0500
TZNAME:EST
DTSTART:20241103T060000
END:STANDARD
BEGIN:DAYLIGHT
TZOFFSETFROM:-0500
TZOFFSETTO:-0400
TZNAME:EDT
DTSTART:20250309T070000
END:DAYLIGHT
BEGIN:STANDARD
TZOFFSETFROM:-0400
TZOFFSETTO:-0500
TZNAME:EST
DTSTART:20251102T060000
END:STANDARD
BEGIN:DAYLIGHT
TZOFFSETFROM:-0500
TZOFFSETTO:-0400
TZNAME:EDT
DTSTART:20260308T070000
END:DAYLIGHT
BEGIN:STANDARD
TZOFFSETFROM:-0400
TZOFFSETTO:-0500
TZNAME:EST
DTSTART:20261101T060000
END:STANDARD
END:VTIMEZONE
BEGIN:VEVENT
DTSTART;TZID=America/Detroit:20250304T083000
DTEND;TZID=America/Detroit:20250304T163000
DTSTAMP:20260420T234959
CREATED:20241202T192501Z
LAST-MODIFIED:20250218T203606Z
UID:10000125-1741077000-1741105800@mipeers.org
SUMMARY:Troy - Ethics and Boundaries for Peer Workers
DESCRIPTION:Training Overview: \nCertified peers across the state of Michigan are required to adhere to the Peer Code of Ethics to help protect both clients and peers. While many ethical issues seem obvious\, others can be more nuanced or unexpected. In this training\, we will explore the Peer Code of Ethics in more detail while outlining effective strategies to set professional boundaries that can help avoid or respond to ethical concerns you may face. \nTraining Objectives: \n\nUnderstand the core components of the Michigan Department of Health and Human Services (MDHHS) Certified Peer Support Specialist (CPSS) and Certified Peer Recovery Coach (CPRC) code of ethics.\nExplore possibilities of how unethical decisions happen.\nIdentify and evaluate self-care practices to maintain boundaries and ethical behavior.\nExplore how to be more effective when setting and maintaining boundaries.\nPractice and exercise decision-making skills when presented with an ethical dilemma.\n\nEligible for 6.5 MDHHS Continuing Education Credits \nRegistration: Please register below (on this site) using a credit or debit card\, which is the quickest way to confirm your attendance. \nONLY if you need to pay by check\, please complete this form (click here) and email it to: registration@mipeers.org. Do not use this form if you are paying by credit/debit card. \nCancellation Policy: Registrations may be transferred to another employee of the same agency upon written request to registration@mipeers.org. Cancellations must be received in writing at least 12 days prior to the date of the training. Failure to cancel registration within the allotted time will result in registration fees being forfeited. For questions\, e-mail registration@mipeers.org. \nAttendance Policy: You must attend the entire training. If you are more than 10 minutes late you will not be allowed to attend as part of the CE requirements. Breaks are built into the training schedule. Participants who miss more than 10 minutes of the training outside of scheduled breaks will not receive CE credit. Attendees must follow the training guidelines.
URL:https://mipeers.org/event/troy-ethics-and-boundaries-for-peer-workers-2/
LOCATION:Oakland Community Health Network\, 5505 Corporate Dr.\, Troy\, MI\, 48098\, United States
CATEGORIES:Continuing Education
ATTACH;FMTTYPE=image/jpeg:https://mipeers.org/wp-content/uploads/2024/04/ethics-1254x692.jpg
ORGANIZER;CN="MDHHS Peer Services Area":MAILTO:MDHHS-PeerSupport@michigan.gov
END:VEVENT
BEGIN:VEVENT
DTSTART;TZID=America/Detroit:20250305T083000
DTEND;TZID=America/Detroit:20250305T163000
DTSTAMP:20260420T234959
CREATED:20250204T164326Z
LAST-MODIFIED:20250213T185356Z
UID:10000165-1741163400-1741192200@mipeers.org
SUMMARY:Detroit - Ethics and Boundaries for Peer Workers
DESCRIPTION:Training Overview: \nCertified peers across the state of Michigan are required to adhere to the Peer Code of Ethics to help protect both clients and peers. While many ethical issues seem obvious\, others can be more nuanced or unexpected. In this training\, we will explore the Peer Code of Ethics in more detail while outlining effective strategies to set professional boundaries that can help avoid or respond to ethical concerns you may face. \nTraining Objectives: \n\nUnderstand the core components of the Michigan Department of Health and Human Services (MDHHS) Certified Peer Support Specialist (CPSS) and Certified Peer Recovery Coach (CPRC) code of ethics.\nExplore possibilities of how unethical decisions happen.\nIdentify and evaluate self-care practices to maintain boundaries and ethical behavior.\nExplore how to be more effective when setting and maintaining boundaries.\nPractice and exercise decision-making skills when presented with an ethical dilemma.\n\nEligible for 6.5 MDHHS Continuing Education credits. \nRegistration for this event will end at 11:59 pm on February 26\, 2025. \nRegistration: Please register below (on this site) using a credit or debit card\, which is the quickest way to confirm your attendance. \nONLY if you need to pay by check\, please complete this form (click here) and email it to: registration@mipeers.org. Do not use this form if you are paying by credit/debit card. Please note that this form takes up to 5 business days for processing\, and placement is not assured until you receive a confirmation of your registration. \nCancellation Policy: Registrations may be transferred to another employee of the same agency upon written request to registration@mipeers.org. Cancellations must be received in writing at least 12 days prior to the date of the training. Failure to cancel registration within the allotted time will result in registration fees being forfeited. For questions\, e-mail registration@mipeers.org. \nAttendance Policy: You must attend the entire training. If you are more than 10 minutes late you will not be allowed to attend as part of the CE requirements. Breaks are built into the training schedule. Participants who miss more than 10 minutes of the training outside of scheduled breaks will not receive CE credit. Attendees must follow the training guidelines.
URL:https://mipeers.org/event/detroit-ethics-and-boundaries-for-peer-workers-3/
LOCATION:Team Wellness East\, 6309 Mack Ave\,\, Detroit\, MI\, 48207\, United States
CATEGORIES:Continuing Education
ATTACH;FMTTYPE=image/jpeg:https://mipeers.org/wp-content/uploads/2024/04/ethics-1254x692.jpg
ORGANIZER;CN="MDHHS Peer Services Area":MAILTO:MDHHS-PeerSupport@michigan.gov
END:VEVENT
BEGIN:VEVENT
DTSTART;TZID=America/Detroit:20250311T120000
DTEND;TZID=America/Detroit:20250311T130000
DTSTAMP:20260420T234959
CREATED:20250214T161153Z
LAST-MODIFIED:20250214T161153Z
UID:10000168-1741694400-1741698000@mipeers.org
SUMMARY:Continuing Education Q&A Session
DESCRIPTION:Have questions about the continuing education requirements for your CPSS or CPRC certification? Join representatives from MDHHS to get all of your questions answered. Registration is not necessary. \nThis session is hosted virtually through zoom. You can access the zoom meeting here. \nMeeting ID: 863 5619 8601 \nPasscode: cPR6YC
URL:https://mipeers.org/event/continuing-education-qa-session-23/
LOCATION:MI
CATEGORIES:Continuing Education
ORGANIZER;CN="MDHHS Peer Services Area":MAILTO:MDHHS-PeerSupport@michigan.gov
END:VEVENT
BEGIN:VEVENT
DTSTART;TZID=America/Detroit:20250312T083000
DTEND;TZID=America/Detroit:20250312T163000
DTSTAMP:20260420T234959
CREATED:20241031T174958Z
LAST-MODIFIED:20250304T155310Z
UID:10000115-1741768200-1741797000@mipeers.org
SUMMARY:Kalamazoo - Ethics and Boundaries for Peer Workers
DESCRIPTION:Training Overview: \nCertified peers across the state of Michigan are required to adhere to the Peer Code of Ethics to help protect both clients and peers. While many ethical issues seem obvious\, others can be more nuanced or unexpected. In this training\, we will explore the Peer Code of Ethics in more detail while outlining effective strategies to set professional boundaries that can help avoid or respond to ethical concerns you may face. \nTraining Objectives: \n\nUnderstand the core components of the Michigan Department of Health and Human Services (MDHHS) Certified Peer Support Specialist (CPSS) and Certified Peer Recovery Coach (CPRC) code of ethics.\nExplore possibilities of how unethical decisions happen.\nIdentify and evaluate self-care practices to maintain boundaries and ethical behavior.\nExplore how to be more effective when setting and maintaining boundaries.\nPractice and exercise decision-making skills when presented with an ethical dilemma.\n\nEligible for 6.5 MDHHS Continuing Education credits. \nRegistration for this event will end at 11:59 pm on March 4\, 2025. \nRegistration: Please register below (on this site) using a credit or debit card\, which is the quickest way to confirm your attendance. \nONLY if you need to pay by check\, please complete this form (click here) and email it to: registration@mipeers.org. Do not use this form if you are paying by credit/debit card. \nCancellation Policy: Registrations may be transferred to another employee of the same agency upon written request to registration@mipeers.org. Cancellations must be received in writing at least 12 days prior to the date of the training. Failure to cancel registration within the allotted time will result in registration fees being forfeited. For questions\, e-mail registration@mipeers.org. \nAttendance Policy: You must attend the entire training. If you are more than 10 minutes late you will not be allowed to attend as part of the CE requirements. Breaks are built into the training schedule. Participants who miss more than 10 minutes of the training outside of scheduled breaks will not receive CE credit. Attendees must follow the training guidelines.
URL:https://mipeers.org/event/kalamazoo-ethics-and-boundaries-for-peer-workers/
LOCATION:Integrated Services of Kalamazoo\, 418 W. Kalamazoo Ave.\, Kalamazoo\, MI\, 49007\, United States
CATEGORIES:Continuing Education
ATTACH;FMTTYPE=image/jpeg:https://mipeers.org/wp-content/uploads/2024/04/ethics-1254x692.jpg
ORGANIZER;CN="MDHHS Peer Services Area":MAILTO:MDHHS-PeerSupport@michigan.gov
END:VEVENT
BEGIN:VEVENT
DTSTART;TZID=America/Detroit:20250313T083000
DTEND;TZID=America/Detroit:20250313T163000
DTSTAMP:20260420T234959
CREATED:20241031T125843Z
LAST-MODIFIED:20250304T144031Z
UID:10000113-1741854600-1741883400@mipeers.org
SUMMARY:Muskegon- Ethics and Boundaries for Peer Workers
DESCRIPTION:Training Overview: \nCertified peers across the state of Michigan are required to adhere to the Peer Code of Ethics to help protect both clients and peers. While many ethical issues seem obvious\, others can be more nuanced or unexpected. In this training\, we will explore the Peer Code of Ethics in more detail while outlining effective strategies to set professional boundaries that can help avoid or respond to ethical concerns you may face. \nTraining Objectives: \n\nUnderstand the core components of the Michigan Department of Health and Human Services (MDHHS) Certified Peer Support Specialist (CPSS) and Certified Peer Recovery Coach (CPRC) code of ethics.\nExplore possibilities of how unethical decisions happen.\nIdentify and evaluate self-care practices to maintain boundaries and ethical behavior.\nExplore how to be more effective when setting and maintaining boundaries.\nPractice and exercise decision-making skills when presented with an ethical dilemma.\n\nEligible for 6.5 MDHHS Continuing Education Credits \nRegistration: Please register below (on this site) using a credit or debit card\, which is the quickest way to confirm your attendance. \nONLY if you need to pay by check\, please complete this form (click here) and email it to: registration@mipeers.org. Do not use this form if you are paying by credit/debit card. \nCancellation Policy: Registrations may be transferred to another employee of the same agency upon written request to registration@mipeers.org. Cancellations must be received in writing at least 12 days prior to the date of the training. Failure to cancel registration within the allotted time will result in registration fees being forfeited. For questions\, e-mail registration@mipeers.org. \nAttendance Policy: You must attend the entire training. If you are more than 10 minutes late you will not be allowed to attend as part of the CE requirements. Breaks are built into the training schedule. Participants who miss more than 10 minutes of the training outside of scheduled breaks will not receive CE credit. Attendees must follow the training guidelines.
URL:https://mipeers.org/event/muskegon-ethics-and-boundaries-for-peer-workers/
LOCATION:Muskegon County Marquette Campus Facility (Student Center)\, 1903 Marquette Avenue\, Muskegon\,\, 49442\, United States
CATEGORIES:Continuing Education
ATTACH;FMTTYPE=image/jpeg:https://mipeers.org/wp-content/uploads/2024/04/ethics-1254x692.jpg
ORGANIZER;CN="MDHHS Peer Services Area":MAILTO:MDHHS-PeerSupport@michigan.gov
END:VEVENT
BEGIN:VEVENT
DTSTART;TZID=America/Detroit:20250314T093000
DTEND;TZID=America/Detroit:20250314T150000
DTSTAMP:20260420T234959
CREATED:20250123T174606Z
LAST-MODIFIED:20250123T185220Z
UID:10000152-1741944600-1741964400@mipeers.org
SUMMARY:Overcoming Limiting Beliefs
DESCRIPTION:So often when we hear the word “belief” we think about religion. The truth is you have beliefs about everything… And most of them are limiting beliefs that hold you back from reaching your full potential. This training will help you turn your limiting beliefs upside down so you can be in the driver’s seat of your life. How much more could you do if you weren’t being held back by the past programming of your limiting beliefs? Supercharge your future by Overcoming Your Limiting Beliefs now! \nParticipants will learn:\n● How limiting your beliefs really are\, and how to change them.\n● Hear where your limiting beliefs are coming from.\n● Understand your own beliefs deeper than you ever thought possible.\n● Look at beliefs all together differently.\n● Listen to how you can interrogate your limiting beliefs in a powerful way.\n● Imagine using a tool that shifts your limiting beliefs at the unconscious level.\n● Discover the “magic question” that shifts limiting beliefs\, every time.\n● Feel like you are truly ready to reach your full potential. \nTrainer: \nChuck Hendrix is a Certified Peer Support Specialist\, Certified Life Coach\, and NLP Practitioner\, and a Board-Certified Hypnotherapist. He has been studying personal growth for more than 25 years. He is always developing special trainings to further the impact that CPSS and Recovery Coaches can make with those they work with. Chuck is known for his unique communication style that is both engaging and funny. You won’t want to miss this training. \nRegistration for this event will end at 11:59 p.m. on March 10\, 2025. \nEligible for 4.5 MDHHS Continuing Education credits. \nRegistration: Please register below (on this site) using a credit or debit card\, which is the quickest way to confirm your attendance. \nONLY if you need to pay by check\, please complete this form (click here) and email it to: registration@mipeers.org. Do not use this form if you are paying by credit/debit card. \nCancellation Policy: Registrations may be transferred to another employee of the same agency upon written request to registration@mipeers.org. Cancellations must be received in writing at least 12 days prior to the date of the training. Failure to cancel registration within the allotted time will result in registration fees being forfeited. For questions\, e-mail registration@mipeers.org. \nAttendance Policy: You must attend the entire training. If you are more than 10 minutes late you will not be allowed to attend as part of the CE requirements. Breaks are built into the training schedule. Participants who miss more than 10 minutes of the training outside of scheduled breaks will not receive CE credit. Attendees must follow the training guidelines.
URL:https://mipeers.org/event/overcoming-limiting-beliefs/
LOCATION:Zoom
CATEGORIES:Continuing Education
ATTACH;FMTTYPE=image/jpeg:https://mipeers.org/wp-content/uploads/2025/01/Untitled-design-13.jpg
ORGANIZER;CN="MDHHS Peer Services Area":MAILTO:MDHHS-PeerSupport@michigan.gov
END:VEVENT
BEGIN:VEVENT
DTSTART;TZID=America/Detroit:20250318T083000
DTEND;TZID=America/Detroit:20250320T163000
DTSTAMP:20260420T234959
CREATED:20250110T174459Z
LAST-MODIFIED:20250214T194911Z
UID:10000149-1742286600-1742488200@mipeers.org
SUMMARY:SMART Recovery
DESCRIPTION:SMART Recovery (Self-Management and Recovery Training) teaches self-empowerment based on scientific principles and evidence. The recovery program helps people overcome all forms of addictive behaviors. This includes those involving\, alcohol\, drugs\, gambling\, shopping\, sex\, and pornography. \nUpon completion of this three-day virtual program\, you will be able to: \n\nExpress confidence to start and facilitate a SMART Recovery meeting.\nDemonstrate basic knowledge of the SMART Recovery program and related tools.\nDemonstrate knowledge of how the concepts\, strategies\, and tools support addiction recovery in a support group setting.\nDemonstrate basic facilitation skills as used in a SMART Recovery support group.\nExpress confidence about starting and facilitating a Family & Friends meeting.\nDemonstrate basic knowledge of SMART Recovery Family & Friends program and related tools.\nDemonstrate knowledge of how concepts\, strategies and tools support recovery for Family & Friends.\n\nTraining Benefits: \n\nHighly interactive training\, including multiple role-plays of practical meeting scenarios.\nLive demonstrations of the tools used in SMART meetings.\nHelpful discussions involving the content of our SMART Recovery handbooks and manuals.\nDiscussions of CBT\, REBT\, Motivational Interviewing and other SMART Recovery concepts\nQuestion & Answer sessions to ensure understanding.\nTraining is completed in three days\, providing the ability to facilitate a SMART meeting and/or use the SMART tools and techniques with clients immediately following the training.\nBreakout groups provide the opportunity for your team to brainstorm ways to incorporate SMART Recovery into your organization.\n\nEligible for 19.5 MDHHS Continuing Education credits. This is a virtual training. Up to 13 virtual Continuing Education credits are allowed to be used towards the 32 credits required for recertification. \nRegistration will close at 11:59 p.m. on March 11\, 2025. \nRegistration: Please register below (on this site) using a credit or debit card\, which is the quickest way to confirm your attendance. \nOnly if you need to pay by check\, please complete this form (click here) and email it to: registration@mipeers.org. Do not use this form if you are paying by credit/debit card. Please note that this form takes up to 5 business days for processing\, and registration is not assured until we receive the check\, and you receive a confirmation of your registration. \nCancellation Policy: Registrations may be transferred to another employee of the same agency upon written request to registration@mipeers.org. Cancellations must be received in writing at least 12 days prior to the date of the training. Failure to cancel registration within the allotted time will result in registration fees being forfeited. For questions\, e-mail registration@mipeers.org. \nAttendance Policy: You must attend the entire training. If you are more than 10 minutes late you will not be allowed to attend as part of the CE requirements. Please note there is absolutely NO driving during the training. If you are driving while attending the training\, you will be removed from the training for your own safety. Training guidelines must be read\, signed\, and returned back to the office before a zoom link is sent to the participant. Attendees must follow the training guidelines.
URL:https://mipeers.org/event/smart-recovery/
LOCATION:Zoom
CATEGORIES:Continuing Education
ATTACH;FMTTYPE=image/jpeg:https://mipeers.org/wp-content/uploads/2025/01/Untitled-design-15.jpg
ORGANIZER;CN="MDHHS Peer Services Area":MAILTO:MDHHS-PeerSupport@michigan.gov
END:VEVENT
BEGIN:VEVENT
DTSTART;TZID=America/Detroit:20250321T120000
DTEND;TZID=America/Detroit:20250321T130000
DTSTAMP:20260420T234959
CREATED:20250307T201644Z
LAST-MODIFIED:20250307T201644Z
UID:10000176-1742558400-1742562000@mipeers.org
SUMMARY:Continuing Education Q&A Session
DESCRIPTION:Have questions about the continuing education requirements for your CPSS or CPRC certification? Join representatives from MDHHS to get all of your questions answered. Registration is not necessary. \nThis session is hosted virtually through zoom. You can access the zoom meeting here. \nMeeting ID: 894 6518 6937 \nPasscode: yg3LBk
URL:https://mipeers.org/event/continuing-education-qa-session-21/
LOCATION:MI
CATEGORIES:Continuing Education
ORGANIZER;CN="MDHHS Peer Services Area":MAILTO:MDHHS-PeerSupport@michigan.gov
END:VEVENT
BEGIN:VEVENT
DTSTART;TZID=America/Detroit:20250324T093000
DTEND;TZID=America/Detroit:20250324T150000
DTSTAMP:20260420T234959
CREATED:20250123T185138Z
LAST-MODIFIED:20250218T200707Z
UID:10000153-1742808600-1742828400@mipeers.org
SUMMARY:How to Process Your Own Grief and Loss
DESCRIPTION:Have you ever been stuck in grief? Have you had trouble “getting over” a loss? Everyone has experienced loss of one kind or another. Some experience the loss of a job\, a relationship\, or even the loss of expectations. This list of losses could go on. If you have experienced any loss\, especially if you are stuck in your grief\, this training will help you learn how to process your own grief. This will help you in your own recovery and help you be able to help those you work with at an even higher level. And that would be helpful to you\, wouldn’t it? \nIn This Training You Will: \n\nLearn how to recognize and express your losses.\nSee your way through your grief. (It’s probably different than you expect.)\nHear three goals of processing your grief.\nFind hope in your ability to grieve more effectively.\nThink about your grief differently.\nExperience ways to truly process your own grief.\n\nAbout the Trainer:\nChuck Hendrix is a Certified Peer Support Specialist\, Certified Life Coach\, and NLP Practitioner\, and a Board-Certified Hypnotherapist. He has been studying personal growth for more than 25 years. He is always developing special trainings to further the impact that CPSS and Recovery Coaches can make with those they work with. Chuck is known for his unique communication style that is both engaging and funny. You won’t want to miss this training. \nEligible for 4.5 MDHHS Continuing Education credits. \nRegistration: Please register below (on this site) using a credit or debit card\, which is the quickest way to confirm your attendance. \nONLY if you need to pay by check\, please complete this form (click here) and email it to: registration@mipeers.org. Do not use this form if you are paying by credit/debit card. \nCancellation Policy: Registrations may be transferred to another employee of the same agency upon written request to registration@mipeers.org. Cancellations must be received in writing at least 12 days prior to the date of the training. Failure to cancel registration within the allotted time will result in registration fees being forfeited. For questions\, e-mail registration@mipeers.org. \nAttendance Policy: You must attend the entire training. If you are more than 10 minutes late you will not be allowed to attend as part of the CE requirements. Breaks are built into the training schedule. Participants who miss more than 10 minutes of the training outside of scheduled breaks will not receive CE credit. Attendees must follow the training guidelines.
URL:https://mipeers.org/event/how-to-process-your-own-grief-and-loss/
LOCATION:Zoom
CATEGORIES:Continuing Education
ATTACH;FMTTYPE=image/jpeg:https://mipeers.org/wp-content/uploads/2025/01/Untitled-design-14.jpg
ORGANIZER;CN="MDHHS Peer Services Area":MAILTO:MDHHS-PeerSupport@michigan.gov
END:VEVENT
BEGIN:VEVENT
DTSTART;TZID=America/Detroit:20250328T083000
DTEND;TZID=America/Detroit:20250328T124500
DTSTAMP:20260420T234959
CREATED:20241122T125629Z
LAST-MODIFIED:20250218T201443Z
UID:10000122-1743150600-1743165900@mipeers.org
SUMMARY:So Many Roads: A Multiple Pathways Training
DESCRIPTION:Explore new pathways in your recovery journey with our interactive online training. Learn how different recovery routes can support your personal growth and those you serve. Through collaboration and self-reflection\, you’ll uncover and share pathways you may not have realized were part of your recovery. Join us for a session of discovery and connection. \nTraining Objectives: \n\nBetter understand many different groups that support multiple pathways.\nLearn about the history of mutual aid groups.\nSelf-discover all the pathways you have used to support your recovery.\nBe able to help the people you serve build a roadmap of their own unique recovery pathway.\n\nTrainers: \nAndrew Brown (BA\, CPRC\, CPRM) is a person in long-term recovery. He is also a trainer for the Michigan Department of Health and Human Services (MDHHS) Peer Recovery Coach Curriculum. He is very passionate about a multiple pathways approach to recovery and dedicated to the concept of harm reduction for persons struggling with substance use disorders. \nPriscilla Shafor (BS\, CADC\, CPRM\, CPRC) is a person in long-term recovery. She is a trainer for the MDHHS Peer Recovery Coach Curriculum\, a Core Recovery Coach Academy and Ethics Trainer for Connecticut Community of Addiction Recovery (CCAR). Priscilla has over 20 years’ experience advocating for persons with substance use disorders and legal histories. \nEligible for 4 MDHHS Continuing Education credits. \nRegistration: Please register below (on this site) using a credit or debit card\, which is the quickest way to confirm your attendance. \nOnly if you need to pay by check\, please complete this form (click here) and email it to: registration@mipeers.org. Do not use this form if you are paying by credit/debit card. \nCancellation Policy: Registrations may be transferred to another employee of the same agency upon written request to registration@mipeers.org. Cancellations must be received in writing at least 12 days prior to the date of the training. Failure to cancel registration within the allotted time will result in registration fees being forfeited. For questions\, e-mail registration@mipeers.org. \nAttendance Policy: You must attend the entire training. If you are more than 10 minutes late you will not be allowed to attend as part of the CE requirements. Please note there is absolutely NO driving during the training. If you are driving while attending the training\, you will be removed from the training for your own safety. Training guidelines must be read\, signed\, and returned back to the office before a zoom link is sent to the participant. Attendees must follow the training guidelines.
URL:https://mipeers.org/event/so-many-roads-a-multiple-pathways-training-5/
LOCATION:Zoom
CATEGORIES:Continuing Education
ATTACH;FMTTYPE=image/png:https://mipeers.org/wp-content/uploads/2024/07/Untitled-design-13.png
ORGANIZER;CN="MDHHS Peer Services Area":MAILTO:MDHHS-PeerSupport@michigan.gov
END:VEVENT
END:VCALENDAR